BEGIN:VCALENDAR
VERSION:2.0
PRODID:-//Florida Comic Cons - ECPv6.15.20//NONSGML v1.0//EN
CALSCALE:GREGORIAN
METHOD:PUBLISH
X-WR-CALNAME:Florida Comic Cons
X-ORIGINAL-URL:https://floridacomiccons.com
X-WR-CALDESC:Events for Florida Comic Cons
REFRESH-INTERVAL;VALUE=DURATION:PT1H
X-Robots-Tag:noindex
X-PUBLISHED-TTL:PT1H
BEGIN:VTIMEZONE
TZID:America/New_York
BEGIN:DAYLIGHT
TZOFFSETFROM:-0500
TZOFFSETTO:-0400
TZNAME:EDT
DTSTART:20220313T070000
END:DAYLIGHT
BEGIN:STANDARD
TZOFFSETFROM:-0400
TZOFFSETTO:-0500
TZNAME:EST
DTSTART:20221106T060000
END:STANDARD
BEGIN:DAYLIGHT
TZOFFSETFROM:-0500
TZOFFSETTO:-0400
TZNAME:EDT
DTSTART:20230312T070000
END:DAYLIGHT
BEGIN:STANDARD
TZOFFSETFROM:-0400
TZOFFSETTO:-0500
TZNAME:EST
DTSTART:20231105T060000
END:STANDARD
BEGIN:DAYLIGHT
TZOFFSETFROM:-0500
TZOFFSETTO:-0400
TZNAME:EDT
DTSTART:20240310T070000
END:DAYLIGHT
BEGIN:STANDARD
TZOFFSETFROM:-0400
TZOFFSETTO:-0500
TZNAME:EST
DTSTART:20241103T060000
END:STANDARD
END:VTIMEZONE
BEGIN:VEVENT
DTSTART;VALUE=DATE:20230915
DTEND;VALUE=DATE:20230918
DTSTAMP:20260420T153026
CREATED:20230521T174646Z
LAST-MODIFIED:20230522T201329Z
UID:11356-1694736000-1694995199@floridacomiccons.com
SUMMARY:Ancient City Con 2023
DESCRIPTION:Basic Info\nAncient City Con 2023 is a science fiction\, anime\, fantasy\, horror\, and gaming convention on September 15-17 at the World Golf Village Renaissance St. Augustine Resort. \nTickets\nFriday single-day ticket is $20\, Saturday ticket is $30\, Sunday ticket is $20\, and three-day pass is $40. Children ages 7 and under are free. Get tickets. \nVendors\nVendor prices are below- learn more about becoming a vendor. \n\n10’x10′ Corner Vendor Booth: $375\n10’x10′ Inline Vendor Booth: $315 \n8’x8′ Corner Artist Booth: $275\n8’x8′ Inline Artist Booth: $215\n\nHotel\nThe hotel is World Golf Village Renaissance St. Augustine Resort\, and there is a special convention room rate. Check it out. \nNeed help finding cons in Florida?\nFlorida Comic Cons has the Con Calendar\, a curated calendar of comic\, anime\, horror\, and other pop-culture conventions to keep you\, the fandom\, informed and apprised (you’re welcome). Quit wasting time with internet searches that take too long and still leave you asking questions.  The Con Calendar’s event listings include all the con info like ticket prices and links\, vendor registration\, and lots more!
URL:https://floridacomiccons.com/event/ancient-city-con-2023/
LOCATION:World Golf Village Renaissance Resort\, 500 South Legacy Trail\, St. Augustine\, Florida\, 32092
ATTACH;FMTTYPE=image/png:https://floridacomiccons.com/wp-content/uploads/2023/05/con-calendar-listing-9.png
END:VEVENT
END:VCALENDAR