BEGIN:VCALENDAR
VERSION:2.0
PRODID:-//Florida Comic Cons - ECPv6.15.20//NONSGML v1.0//EN
CALSCALE:GREGORIAN
METHOD:PUBLISH
X-WR-CALNAME:Florida Comic Cons
X-ORIGINAL-URL:https://floridacomiccons.com
X-WR-CALDESC:Events for Florida Comic Cons
REFRESH-INTERVAL;VALUE=DURATION:PT1H
X-Robots-Tag:noindex
X-PUBLISHED-TTL:PT1H
BEGIN:VTIMEZONE
TZID:America/New_York
BEGIN:DAYLIGHT
TZOFFSETFROM:-0500
TZOFFSETTO:-0400
TZNAME:EDT
DTSTART:20250309T070000
END:DAYLIGHT
BEGIN:STANDARD
TZOFFSETFROM:-0400
TZOFFSETTO:-0500
TZNAME:EST
DTSTART:20251102T060000
END:STANDARD
BEGIN:DAYLIGHT
TZOFFSETFROM:-0500
TZOFFSETTO:-0400
TZNAME:EDT
DTSTART:20260308T070000
END:DAYLIGHT
BEGIN:STANDARD
TZOFFSETFROM:-0400
TZOFFSETTO:-0500
TZNAME:EST
DTSTART:20261101T060000
END:STANDARD
BEGIN:DAYLIGHT
TZOFFSETFROM:-0500
TZOFFSETTO:-0400
TZNAME:EDT
DTSTART:20270314T070000
END:DAYLIGHT
BEGIN:STANDARD
TZOFFSETFROM:-0400
TZOFFSETTO:-0500
TZNAME:EST
DTSTART:20271107T060000
END:STANDARD
END:VTIMEZONE
BEGIN:VEVENT
DTSTART;VALUE=DATE:20260925
DTEND;VALUE=DATE:20260928
DTSTAMP:20260419T115233
CREATED:20250925T145557Z
LAST-MODIFIED:20260211T142536Z
UID:25788-1790294400-1790553599@floridacomiccons.com
SUMMARY:Ancient City Con 2026
DESCRIPTION:Ancient City Con is September 18-20 at the World Golf Village Renaissance St. Augustine Resort.  A homie convention voted Best Cosplayer Event in the Folio Readers Poll\, it’s no wonder it’s a favorite of FloridaComicCons. With lots of interactive things to do\, and great atmosphere for socializing and seeing old friends. This con really is the gem of St. Augustine! \nBasic Info\nDates: September 18-20th 2026 \nLocation: World Golf Village Resort | St Augustine\, FL \nTickets\nEarly Bird Special Available: Last Updated 9/25/2025 \nFull Weekend (General) Admission:\nFriday Daily Admission:\nSaturday Daily Admission:\nSunday Daily Admission:\nChild Daily Admission:\nChild Full Admission: \nEVENT DATES UPDATE: September 25-27\, 2026\nFRIDAY\, Sept 25\, 2025\nEVENT HOURS: pm – pm\nVENDER HALL HOURS: pm – pm\nSATURDAY\, Sept 26\, 2025\nEVENT HOURS: am – pm\nVENDER HALL HOURS: pm – pm\nSUNDAY\, Sept 27\, 2025\nEVENT HOURS: am – pm\nVENDER HALL HOURS: pm – pm\nParking:\nFree\n(Large Parking Lots) \n  \n  \n\n Event Listing Sponsor
URL:https://floridacomiccons.com/event/ancient-city-con-2026/
LOCATION:World Golf Village Renaissance Resort\, 500 South Legacy Trail\, St. Augustine\, Florida\, 32092
CATEGORIES:2+ Day Cons,Anime Convention,Pop Culture Con,Sci-Fi & Fantasy Con
ATTACH;FMTTYPE=image/png:https://floridacomiccons.com/wp-content/uploads/2025/09/ADD-TO-CALENDAR-3.png
END:VEVENT
END:VCALENDAR