BEGIN:VCALENDAR
VERSION:2.0
PRODID:-//Florida Comic Cons - ECPv6.15.20//NONSGML v1.0//EN
CALSCALE:GREGORIAN
METHOD:PUBLISH
X-WR-CALNAME:Florida Comic Cons
X-ORIGINAL-URL:https://floridacomiccons.com
X-WR-CALDESC:Events for Florida Comic Cons
REFRESH-INTERVAL;VALUE=DURATION:PT1H
X-Robots-Tag:noindex
X-PUBLISHED-TTL:PT1H
BEGIN:VTIMEZONE
TZID:America/New_York
BEGIN:DAYLIGHT
TZOFFSETFROM:-0500
TZOFFSETTO:-0400
TZNAME:EDT
DTSTART:20240310T070000
END:DAYLIGHT
BEGIN:STANDARD
TZOFFSETFROM:-0400
TZOFFSETTO:-0500
TZNAME:EST
DTSTART:20241103T060000
END:STANDARD
BEGIN:DAYLIGHT
TZOFFSETFROM:-0500
TZOFFSETTO:-0400
TZNAME:EDT
DTSTART:20250309T070000
END:DAYLIGHT
BEGIN:STANDARD
TZOFFSETFROM:-0400
TZOFFSETTO:-0500
TZNAME:EST
DTSTART:20251102T060000
END:STANDARD
BEGIN:DAYLIGHT
TZOFFSETFROM:-0500
TZOFFSETTO:-0400
TZNAME:EDT
DTSTART:20260308T070000
END:DAYLIGHT
BEGIN:STANDARD
TZOFFSETFROM:-0400
TZOFFSETTO:-0500
TZNAME:EST
DTSTART:20261101T060000
END:STANDARD
END:VTIMEZONE
BEGIN:VEVENT
DTSTART;TZID=America/New_York:20250426T110000
DTEND;TZID=America/New_York:20250426T190000
DTSTAMP:20260419T115232
CREATED:20250208T215819Z
LAST-MODIFIED:20250208T215819Z
UID:18816-1745665200-1745694000@floridacomiccons.com
SUMMARY:Anime in the Park - Lake David Park 2025
DESCRIPTION:Join us for our second year at the beautiful Lake David Park in Groveland\, Florida. Attendance is FREE and open to all ages. We’re featuring a marketplace of over 20 local artists\, food trucks\, dance music\, cosplay events\, games\, interactive panels\, and all day fun. See you there!
URL:https://floridacomiccons.com/event/anime-in-the-park-lake-david-park-2025/
LOCATION:Lake David Park\, 450 S. Lake Ave\, Groveland Ave\, 34736\, United States
ATTACH;FMTTYPE=image/png:https://floridacomiccons.com/wp-content/uploads/2025/02/aitp-avatar.png
END:VEVENT
END:VCALENDAR