BEGIN:VCALENDAR
VERSION:2.0
PRODID:-//Florida Comic Cons - ECPv6.15.20//NONSGML v1.0//EN
CALSCALE:GREGORIAN
METHOD:PUBLISH
X-WR-CALNAME:Florida Comic Cons
X-ORIGINAL-URL:https://floridacomiccons.com
X-WR-CALDESC:Events for Florida Comic Cons
REFRESH-INTERVAL;VALUE=DURATION:PT1H
X-Robots-Tag:noindex
X-PUBLISHED-TTL:PT1H
BEGIN:VTIMEZONE
TZID:America/New_York
BEGIN:DAYLIGHT
TZOFFSETFROM:-0500
TZOFFSETTO:-0400
TZNAME:EDT
DTSTART:20250309T070000
END:DAYLIGHT
BEGIN:STANDARD
TZOFFSETFROM:-0400
TZOFFSETTO:-0500
TZNAME:EST
DTSTART:20251102T060000
END:STANDARD
BEGIN:DAYLIGHT
TZOFFSETFROM:-0500
TZOFFSETTO:-0400
TZNAME:EDT
DTSTART:20260308T070000
END:DAYLIGHT
BEGIN:STANDARD
TZOFFSETFROM:-0400
TZOFFSETTO:-0500
TZNAME:EST
DTSTART:20261101T060000
END:STANDARD
BEGIN:DAYLIGHT
TZOFFSETFROM:-0500
TZOFFSETTO:-0400
TZNAME:EDT
DTSTART:20270314T070000
END:DAYLIGHT
BEGIN:STANDARD
TZOFFSETFROM:-0400
TZOFFSETTO:-0500
TZNAME:EST
DTSTART:20271107T060000
END:STANDARD
END:VTIMEZONE
BEGIN:VEVENT
DTSTART;TZID=America/New_York:20260517T080000
DTEND;TZID=America/New_York:20260519T170000
DTSTAMP:20260419T030735
CREATED:20260417T172124Z
LAST-MODIFIED:20260417T172124Z
UID:40807-1779004800-1779210000@floridacomiccons.com
SUMMARY:Anime Matsuri On The Water 2026
DESCRIPTION:Asian & Anime Food Festival\nCurtis Hixon Waterfront ParkTampa\, FL\n\n\n\nMeet & greets with special guests. Jump into epic anime vibes and foodie fun at Anime Matsuri On The Water—where cosplay meets foodies!\n\n\n\nAnime Matsuri On The Water\nGet ready for an epic in-person experience at Anime Matsuri On The Water! \nDive into a world of your favorite anime\, meet fellow fans\, and enjoy unique activities all packed into one amazing event. Whether you’re a cosplay pro or just here for the vibes\, there’s something for everyone. Don’t miss out on this fantastic chance to connect\, celebrate\, and have a blast together! \n\nAnime Matsuri On The Water (Asian Anime Fest) \nCurtis Hixon Park: 600 N. Ashley Dr.\, Tampa. FL 33602 \n📅 JULY 17\, 18\, 19 \n⏰ Fri 4–11pm • Sat 11–11pm • Sun 11–9pm \n\nLive Music & Performance\nAnime Voice Actors Meet & Greet\nKids Zone\nInternational Street Food Vendors\nAnime Merch Vendors\nCosplay Contest
URL:https://floridacomiccons.com/event/anime-matsuri-on-the-water-2026/
CATEGORIES:2+ Day Cons
ATTACH;FMTTYPE=image/png:https://floridacomiccons.com/wp-content/uploads/2026/04/tanoshii.png
END:VEVENT
END:VCALENDAR