BEGIN:VCALENDAR
VERSION:2.0
PRODID:-//Florida Comic Cons - ECPv6.15.20//NONSGML v1.0//EN
CALSCALE:GREGORIAN
METHOD:PUBLISH
X-WR-CALNAME:Florida Comic Cons
X-ORIGINAL-URL:https://floridacomiccons.com
X-WR-CALDESC:Events for Florida Comic Cons
REFRESH-INTERVAL;VALUE=DURATION:PT1H
X-Robots-Tag:noindex
X-PUBLISHED-TTL:PT1H
BEGIN:VTIMEZONE
TZID:America/New_York
BEGIN:DAYLIGHT
TZOFFSETFROM:-0500
TZOFFSETTO:-0400
TZNAME:EDT
DTSTART:20200308T070000
END:DAYLIGHT
BEGIN:STANDARD
TZOFFSETFROM:-0400
TZOFFSETTO:-0500
TZNAME:EST
DTSTART:20201101T060000
END:STANDARD
BEGIN:DAYLIGHT
TZOFFSETFROM:-0500
TZOFFSETTO:-0400
TZNAME:EDT
DTSTART:20210314T070000
END:DAYLIGHT
BEGIN:STANDARD
TZOFFSETFROM:-0400
TZOFFSETTO:-0500
TZNAME:EST
DTSTART:20211107T060000
END:STANDARD
BEGIN:DAYLIGHT
TZOFFSETFROM:-0500
TZOFFSETTO:-0400
TZNAME:EDT
DTSTART:20220313T070000
END:DAYLIGHT
BEGIN:STANDARD
TZOFFSETFROM:-0400
TZOFFSETTO:-0500
TZNAME:EST
DTSTART:20221106T060000
END:STANDARD
END:VTIMEZONE
BEGIN:VEVENT
DTSTART;VALUE=DATE:20210717
DTEND;VALUE=DATE:20210719
DTSTAMP:20260419T163610
CREATED:20210307T233917Z
LAST-MODIFIED:20210326T003656Z
UID:1933-1626480000-1626652799@floridacomiccons.com
SUMMARY:Bold Matsuri
DESCRIPTION:Bold Matsuri 2021 is scheduled\nBold Matsuri is a comic convention in Jacksonville\, Florida.  And the 2021 event is scheduled for July 17-18 at Jax Expo Center. Furthermore\, the event hours are Saturday 10 a.m.–6 p.m. and Sunday 11 a.m.- 6 p.m. \nBold Matsuri is an annual anime and cosplay festival\nBold Matsuri is an annual anime and cosplay festival that features a wide range of celebrity guests\, the latest gaming\, and cosplay-focused after-hour events. And attendees are expected from Florida cities to the west like Tallahassee\, as well as from the south such as St. Augustine\, Daytona Beach and Orlando. \nCelebrity guests are being announced\, with more to come\nElizabeth Maxwell\, voice actor\nElizabeth Maxwell is a voice actor who is well known for Dragon Ball Super\, My Hero Academia\, and Attack on Titan. \nMehdi Aquichaoui\, animator\nMehdi Aquichaoui is an animator known for work on Dragon Ball Super\, My Hero Academia\, and Jujustsu Kaisen. \nDavid Matranga\, voice actor\nDavid Matranga is best known as the voice of Shoto Todoroki from My Hero Academia\, Hideki Hinata from Angel Beats\, and Bertholdt Hoover from Attack on Titan series. \nMore guest announcements announcements \nBold Matsuri tickets are available\nTickets for Saturday $20\, Sunday $20\, and a three-day pass is $30. More info at http://boldmatsuri.com/tickets/  In addition\, event cancellations are updated at the Florida Comic Cons 2021 Calendar. \nCoronavirus safety precautions are in place\nSafety measures includes temperature screenings upon entry\, additional cleaning staff throughout the event and social distancing. In addition\, masks are required. \nFlorida Cosplay Digital Magazine featured Jacksonville cosplayers\nFlorida Cosplay Digital Magazine’s (FCDM) has featured cosplayers from Jacksonville. For instance\, FCDM May/June 2020 issue titled “10 Florida cosplayers you need to know about” spotlighted @summerfirecosplay https://the-caruthers-institute.foleon.com/florida-comic-cons/may-june-2020-copy-1-copy-1/summerfirecosplay/ \nAdditionally\, numerous Jacksonville cosplayers appeared in FCDM’s November 2020 issue called “8 Florida cosplayers and one dozen Sailor Moons to cheer you up:” Check out @SailorScoutsJax https://the-caruthers-institute.foleon.com/florida-comic-cons/florida-cosplay-digital-magazine-november-2020-issue/sailorscoutsjax/
URL:https://floridacomiccons.com/event/bold-matsuri/
LOCATION:Jax Expo Center\, 510 Fairgrounds Pl\, Jacksonville\, Florida\, 32202
ATTACH;FMTTYPE=image/png:https://floridacomiccons.com/wp-content/uploads/2021/03/Bold-Matsuri-1.png
END:VEVENT
END:VCALENDAR