BEGIN:VCALENDAR
VERSION:2.0
PRODID:-//Florida Comic Cons - ECPv6.15.20//NONSGML v1.0//EN
CALSCALE:GREGORIAN
METHOD:PUBLISH
X-WR-CALNAME:Florida Comic Cons
X-ORIGINAL-URL:https://floridacomiccons.com
X-WR-CALDESC:Events for Florida Comic Cons
REFRESH-INTERVAL;VALUE=DURATION:PT1H
X-Robots-Tag:noindex
X-PUBLISHED-TTL:PT1H
BEGIN:VTIMEZONE
TZID:America/New_York
BEGIN:DAYLIGHT
TZOFFSETFROM:-0500
TZOFFSETTO:-0400
TZNAME:EDT
DTSTART:20260308T070000
END:DAYLIGHT
BEGIN:STANDARD
TZOFFSETFROM:-0400
TZOFFSETTO:-0500
TZNAME:EST
DTSTART:20261101T060000
END:STANDARD
BEGIN:DAYLIGHT
TZOFFSETFROM:-0500
TZOFFSETTO:-0400
TZNAME:EDT
DTSTART:20270314T070000
END:DAYLIGHT
BEGIN:STANDARD
TZOFFSETFROM:-0400
TZOFFSETTO:-0500
TZNAME:EST
DTSTART:20271107T060000
END:STANDARD
BEGIN:DAYLIGHT
TZOFFSETFROM:-0500
TZOFFSETTO:-0400
TZNAME:EDT
DTSTART:20280312T070000
END:DAYLIGHT
BEGIN:STANDARD
TZOFFSETFROM:-0400
TZOFFSETTO:-0500
TZNAME:EST
DTSTART:20281105T060000
END:STANDARD
END:VTIMEZONE
BEGIN:VEVENT
DTSTART;TZID=America/New_York:20270115T080000
DTEND;TZID=America/New_York:20270117T170000
DTSTAMP:20260418T142247
CREATED:20260417T165510Z
LAST-MODIFIED:20260417T165510Z
UID:40801-1800000000-1800205200@floridacomiccons.com
SUMMARY:Central Florida Comic Con 2027
DESCRIPTION:Central Florida Comic Con offers multiple ticket options including VIP Passes\, Day Passes and more! Stay tuned for 2027 ticket details!\n\n\n\n\nJanuary 15-17\, 2027 \n\n\n  \nAddress: RP Funding Center\n701 West Lime Street\nLakeland\, FL 33815 \n  \n\n\nContact  info@centralfloridacomiccon.com
URL:https://floridacomiccons.com/event/central-florida-comic-con-2027/
LOCATION:RP Funding Center\, 701 W Lime St\, Lakeland\, Florida\, 33815
CATEGORIES:2+ Day Cons,Comic Con
ATTACH;FMTTYPE=image/png:https://floridacomiccons.com/wp-content/uploads/2026/04/ccentral-fl-cc.png
END:VEVENT
END:VCALENDAR