BEGIN:VCALENDAR
VERSION:2.0
PRODID:-//Florida Comic Cons - ECPv6.15.20//NONSGML v1.0//EN
CALSCALE:GREGORIAN
METHOD:PUBLISH
X-WR-CALNAME:Florida Comic Cons
X-ORIGINAL-URL:https://floridacomiccons.com
X-WR-CALDESC:Events for Florida Comic Cons
REFRESH-INTERVAL;VALUE=DURATION:PT1H
X-Robots-Tag:noindex
X-PUBLISHED-TTL:PT1H
BEGIN:VTIMEZONE
TZID:America/New_York
BEGIN:DAYLIGHT
TZOFFSETFROM:-0500
TZOFFSETTO:-0400
TZNAME:EDT
DTSTART:20250309T070000
END:DAYLIGHT
BEGIN:STANDARD
TZOFFSETFROM:-0400
TZOFFSETTO:-0500
TZNAME:EST
DTSTART:20251102T060000
END:STANDARD
BEGIN:DAYLIGHT
TZOFFSETFROM:-0500
TZOFFSETTO:-0400
TZNAME:EDT
DTSTART:20260308T070000
END:DAYLIGHT
BEGIN:STANDARD
TZOFFSETFROM:-0400
TZOFFSETTO:-0500
TZNAME:EST
DTSTART:20261101T060000
END:STANDARD
BEGIN:DAYLIGHT
TZOFFSETFROM:-0500
TZOFFSETTO:-0400
TZNAME:EDT
DTSTART:20270314T070000
END:DAYLIGHT
BEGIN:STANDARD
TZOFFSETFROM:-0400
TZOFFSETTO:-0500
TZNAME:EST
DTSTART:20271107T060000
END:STANDARD
END:VTIMEZONE
BEGIN:VEVENT
DTSTART;TZID=America/New_York:20260524T100000
DTEND;TZID=America/New_York:20260524T170000
DTSTAMP:20260419T001947
CREATED:20260417T164034Z
LAST-MODIFIED:20260417T164034Z
UID:40790-1779616800-1779642000@floridacomiccons.com
SUMMARY:Dreamers & Doers Market: May 2026
DESCRIPTION:Dreamers and Doers Market: Information FAC \n✨ To all who come to this happy place\, welcome ✨ Orlando\, FL Market Next Market: DCOM May 24th || 12-4pm\nDreamers and Doers is a magic inspired market✨ local to Orlando📍Over 40+ Vendors🩵Home for Dreamers chasing their passions and Doers bringing these dreams to life✨ \nAddress: 1901 Chief Osceola Trail\, 34744
URL:https://floridacomiccons.com/event/dreamers-doers-market-may-2026/
LOCATION:Dreamers & Doers Market: Osceola Heritage Park’s Events Center\, 1901 Chief Osceola Trail\, kissimee\, 34744\, United States
CATEGORIES:1-Day Show
ATTACH;FMTTYPE=image/png:https://floridacomiccons.com/wp-content/uploads/2026/04/afomiami-5.png
END:VEVENT
END:VCALENDAR