BEGIN:VCALENDAR
VERSION:2.0
PRODID:-//Florida Comic Cons - ECPv6.15.20//NONSGML v1.0//EN
CALSCALE:GREGORIAN
METHOD:PUBLISH
X-WR-CALNAME:Florida Comic Cons
X-ORIGINAL-URL:https://floridacomiccons.com
X-WR-CALDESC:Events for Florida Comic Cons
REFRESH-INTERVAL;VALUE=DURATION:PT1H
X-Robots-Tag:noindex
X-PUBLISHED-TTL:PT1H
BEGIN:VTIMEZONE
TZID:America/New_York
BEGIN:DAYLIGHT
TZOFFSETFROM:-0500
TZOFFSETTO:-0400
TZNAME:EDT
DTSTART:20210314T070000
END:DAYLIGHT
BEGIN:STANDARD
TZOFFSETFROM:-0400
TZOFFSETTO:-0500
TZNAME:EST
DTSTART:20211107T060000
END:STANDARD
BEGIN:DAYLIGHT
TZOFFSETFROM:-0500
TZOFFSETTO:-0400
TZNAME:EDT
DTSTART:20220313T070000
END:DAYLIGHT
BEGIN:STANDARD
TZOFFSETFROM:-0400
TZOFFSETTO:-0500
TZNAME:EST
DTSTART:20221106T060000
END:STANDARD
BEGIN:DAYLIGHT
TZOFFSETFROM:-0500
TZOFFSETTO:-0400
TZNAME:EDT
DTSTART:20230312T070000
END:DAYLIGHT
BEGIN:STANDARD
TZOFFSETFROM:-0400
TZOFFSETTO:-0500
TZNAME:EST
DTSTART:20231105T060000
END:STANDARD
END:VTIMEZONE
BEGIN:VEVENT
DTSTART;VALUE=DATE:20220907
DTEND;VALUE=DATE:20220912
DTSTAMP:20260418T072434
CREATED:20220412T130647Z
LAST-MODIFIED:20220412T130647Z
UID:6256-1662508800-1662940799@floridacomiccons.com
SUMMARY:Escape Winter Con 2022
DESCRIPTION:Basic info\nEscape Winter Con is a gaming convention in Orlando\, Florida on September 7-11. The event is at Wyndham International Drive. Convention hours are Wednesday 10 a.m. – 12 a.m.\, Thursday – Saturday 12 a.m. – 12 a.m.\, and Sunday 12 a.m. – 6 p.m. \nCon genres\nEscape Winter Con genres are gaming\, and fantasy. Florida Comic Cons determines con genres based upon guests. \nTicket info\nTickets will go on sale on May 17th\, 2022. \nFollow Escape Winter Con on social media\nVisit Escape Winter Con on Facebook (and while you’re checking out their social media\, please follow Florida Comic Cons on Facebook and Instagram). \nBecome a vendor\nClick here for more information on becoming a vendor. \nEscape Winter Con By The Numbers\nFlorida Comic Cons breaks down Escape Winter Con By The Numbers: Ticket price\, last year’s attendance\, number of days\, and years in operation. \n \n  \nNeed help finding comic cons in Florida?\nFlorida Comic Cons provides the Con Calendar — a curated calendar of upcoming comic\, anime\, horror\, science fiction\, fantasy\, and pop culture conventions in The Sunshine State. Event listings include con info as well as helpful links for things like buying tickets and registering as a vendor.
URL:https://floridacomiccons.com/event/escape-winter-con-2022/
LOCATION:The Wyndham Orlando Resort International Drive\, 8001 International Drive\, Orlando\, FL\, 32819\, United States
END:VEVENT
END:VCALENDAR