BEGIN:VCALENDAR
VERSION:2.0
PRODID:-//Florida Comic Cons - ECPv6.15.20//NONSGML v1.0//EN
CALSCALE:GREGORIAN
METHOD:PUBLISH
X-WR-CALNAME:Florida Comic Cons
X-ORIGINAL-URL:https://floridacomiccons.com
X-WR-CALDESC:Events for Florida Comic Cons
REFRESH-INTERVAL;VALUE=DURATION:PT1H
X-Robots-Tag:noindex
X-PUBLISHED-TTL:PT1H
BEGIN:VTIMEZONE
TZID:America/New_York
BEGIN:DAYLIGHT
TZOFFSETFROM:-0500
TZOFFSETTO:-0400
TZNAME:EDT
DTSTART:20210314T070000
END:DAYLIGHT
BEGIN:STANDARD
TZOFFSETFROM:-0400
TZOFFSETTO:-0500
TZNAME:EST
DTSTART:20211107T060000
END:STANDARD
BEGIN:DAYLIGHT
TZOFFSETFROM:-0500
TZOFFSETTO:-0400
TZNAME:EDT
DTSTART:20220313T070000
END:DAYLIGHT
BEGIN:STANDARD
TZOFFSETFROM:-0400
TZOFFSETTO:-0500
TZNAME:EST
DTSTART:20221106T060000
END:STANDARD
BEGIN:DAYLIGHT
TZOFFSETFROM:-0500
TZOFFSETTO:-0400
TZNAME:EDT
DTSTART:20230312T070000
END:DAYLIGHT
BEGIN:STANDARD
TZOFFSETFROM:-0400
TZOFFSETTO:-0500
TZNAME:EST
DTSTART:20231105T060000
END:STANDARD
END:VTIMEZONE
BEGIN:VEVENT
DTSTART;VALUE=DATE:20220902
DTEND;VALUE=DATE:20220905
DTSTAMP:20260419T131540
CREATED:20211207T010043Z
LAST-MODIFIED:20220505T141526Z
UID:5076-1662076800-1662335999@floridacomiccons.com
SUMMARY:Fanboy Expo Orlando 2022
DESCRIPTION:Basic info\nFanboy Expo is a comic convention in Orlando\, Florida on September 2-4\, 2022. Convention hours are Friday 4 p.m. – 9 p.m.\, Saturday 10 a.m. – 8 p.m.\, and Sunday 10 a.m. – 6 p.m. \nTicket info\nFanboy Expo Orlando offers individual and family passes for each or both days. \nAdditionally\, Kids ages 6-12 are $20 presale or $22 at the door for all days. \n Friday\nIndividual ticket is $30 presale and $33 at the door. \nSaturday\nIndividual ticket is $40 presale and $44 at the door. Admission at 3pm or later is $30 online and $33 at the door. \nSunday\nIndividual ticket is $35 presale and $39 at the door. \nFamily Weekend\nFamily weekend passes include admission to all convention days for two adults and two children. A Family pass is $199 presale only. \nIndividual Weekend Passes / VIP tickets\nWeekend passes include admission to all convention days. Adult weekend passes are $95 presale and $105 at the door. Child weekend passes are $45 presale and $50 at the door. VIP passes range from $129 for a Premium pass to $799 for a Diamond Pass. \nHotel Info\nThe hotel listed by Fanboy Expo is Hyatt Regency Orlando at 9801 International Drive\, Orlando\, FL. \nFollow Fanboy Expo on social media\nVisit Fanboy Expo on Facebook and Instagram (and while you’re checking out their social media\, please follow Florida Comic Cons on Facebook and Instagram). \nBecome a vendor\nVendor tables and booths range from $175 in Artist Alley to $400 for a corner booth. In addition\, each space comes with two exhibitor badges. \nFanboy Expo By The Numbers\nFlorida Comic Cons breaks down Fanboy Expo By The Numbers: Ticket price\, last year’s attendance\, number of days\, and years in operation. \n \nNeed help finding comic cons in Florida?\nFlorida Comic Cons provides the Con Calendar — a curated calendar of upcoming comic\, anime\, horror\, science fiction\, fantasy and pop culture conventions in The Sunshine State. Event listings include con info as well as helpful links for things like buying tickets and registering as a vendor.
URL:https://floridacomiccons.com/event/fanboy-expo-orlando-2022/
ATTACH;FMTTYPE=image/png:https://floridacomiccons.com/wp-content/uploads/2021/12/19.png
END:VEVENT
END:VCALENDAR