BEGIN:VCALENDAR
VERSION:2.0
PRODID:-//Florida Comic Cons - ECPv6.15.20//NONSGML v1.0//EN
CALSCALE:GREGORIAN
METHOD:PUBLISH
X-WR-CALNAME:Florida Comic Cons
X-ORIGINAL-URL:https://floridacomiccons.com
X-WR-CALDESC:Events for Florida Comic Cons
REFRESH-INTERVAL;VALUE=DURATION:PT1H
X-Robots-Tag:noindex
X-PUBLISHED-TTL:PT1H
BEGIN:VTIMEZONE
TZID:America/New_York
BEGIN:DAYLIGHT
TZOFFSETFROM:-0500
TZOFFSETTO:-0400
TZNAME:EDT
DTSTART:20230312T070000
END:DAYLIGHT
BEGIN:STANDARD
TZOFFSETFROM:-0400
TZOFFSETTO:-0500
TZNAME:EST
DTSTART:20231105T060000
END:STANDARD
BEGIN:DAYLIGHT
TZOFFSETFROM:-0500
TZOFFSETTO:-0400
TZNAME:EDT
DTSTART:20240310T070000
END:DAYLIGHT
BEGIN:STANDARD
TZOFFSETFROM:-0400
TZOFFSETTO:-0500
TZNAME:EST
DTSTART:20241103T060000
END:STANDARD
BEGIN:DAYLIGHT
TZOFFSETFROM:-0500
TZOFFSETTO:-0400
TZNAME:EDT
DTSTART:20250309T070000
END:DAYLIGHT
BEGIN:STANDARD
TZOFFSETFROM:-0400
TZOFFSETTO:-0500
TZNAME:EST
DTSTART:20251102T060000
END:STANDARD
END:VTIMEZONE
BEGIN:VEVENT
DTSTART;VALUE=DATE:20240906
DTEND;VALUE=DATE:20240909
DTSTAMP:20260419T152834
CREATED:20240607T204856Z
LAST-MODIFIED:20240901T215836Z
UID:13959-1725580800-1725839999@floridacomiccons.com
SUMMARY:Fanboy Expo Orlando 2024
DESCRIPTION:Basic Info\nFanboy Expo Orlando is a pop culture convention on September 6-8 at the Orange County Convention Center. \nTickets\nTicket prices for adults are Friday $30\, Saturday $45\, Sunday $35\, weekend $75; for children Friday $12\, Saturday $12\, Sunday $12\, and weekend $28. Buy tickets at Fanboy Expo Orlando site. 								\n				\n					\n		\n					\n		\n				\n						\n					\n			\n						\n				\n							\n			\n						\n		\n						\n				\n				\n				\n									we also recommend								\n				\n				\n				\n									With more than 40 annual\, 2-plus day fan conventions\, Florida is the best place in the universe for comic\, anime\, horror\, sci-fi\, and pop-culture cons. Given your interest in this event\, Florida Comic Cons also recommends the following.
URL:https://floridacomiccons.com/event/fanboy-expo-orlando-2024/
LOCATION:Orange County Convention Center\, 9899 International Dr\,\, Orlando\, Florida\, 32819
ATTACH;FMTTYPE=image/png:https://floridacomiccons.com/wp-content/uploads/2024/06/fanboy-expo-24.png
END:VEVENT
END:VCALENDAR