BEGIN:VCALENDAR
VERSION:2.0
PRODID:-//Florida Comic Cons - ECPv6.15.20//NONSGML v1.0//EN
CALSCALE:GREGORIAN
METHOD:PUBLISH
X-WR-CALNAME:Florida Comic Cons
X-ORIGINAL-URL:https://floridacomiccons.com
X-WR-CALDESC:Events for Florida Comic Cons
REFRESH-INTERVAL;VALUE=DURATION:PT1H
X-Robots-Tag:noindex
X-PUBLISHED-TTL:PT1H
BEGIN:VTIMEZONE
TZID:America/New_York
BEGIN:DAYLIGHT
TZOFFSETFROM:-0500
TZOFFSETTO:-0400
TZNAME:EDT
DTSTART:20200308T070000
END:DAYLIGHT
BEGIN:STANDARD
TZOFFSETFROM:-0400
TZOFFSETTO:-0500
TZNAME:EST
DTSTART:20201101T060000
END:STANDARD
BEGIN:DAYLIGHT
TZOFFSETFROM:-0500
TZOFFSETTO:-0400
TZNAME:EDT
DTSTART:20210314T070000
END:DAYLIGHT
BEGIN:STANDARD
TZOFFSETFROM:-0400
TZOFFSETTO:-0500
TZNAME:EST
DTSTART:20211107T060000
END:STANDARD
BEGIN:DAYLIGHT
TZOFFSETFROM:-0500
TZOFFSETTO:-0400
TZNAME:EDT
DTSTART:20220313T070000
END:DAYLIGHT
BEGIN:STANDARD
TZOFFSETFROM:-0400
TZOFFSETTO:-0500
TZNAME:EST
DTSTART:20221106T060000
END:STANDARD
END:VTIMEZONE
BEGIN:VEVENT
DTSTART;VALUE=DATE:20210820
DTEND;VALUE=DATE:20210823
DTSTAMP:20260418T203819
CREATED:20200406T032333Z
LAST-MODIFIED:20210718T193359Z
UID:1241-1629417600-1629676799@floridacomiccons.com
SUMMARY:Fanboy Expo Orlando
DESCRIPTION:Fanboy Expo Orlando is a comic convention in Orlando\, Florida. The three-day event\, at Wyndham Orlando Resort International Drive\, is on August 20-22. Friday hours are 4 p.m. – 9 p.m.\, Saturday 10 a.m. – 8 p.m.\, and Sunday 10 a.m. – 6 p.m. \nCheck out our recent blog: 8 Wonderful Reasons to Attend Fanboy Expo Orlando 2021\nOur recent blog — 8 wonderful reasons to attend Fanboy Expo Orlando 2021 — tells you all you need to know. \nFanboy Expo Orlando ticket info\nTickets: Friday is $30\, Saturday $40\, and Sunday $35. Three-day pass is $95. Fan packages can offer more value for those who want tickets as well as celebrity photos and autographs. \nFlorida Cosplay Digital Magazine featured Orlando-area cosplayers\nFlorida Cosplay Digital Magazine’s (FCDM) has spotlighted numerous cosplayers from the Orlando area. For instance\, FCDM May/June 2020 issue titled “10 Florida cosplayers you need to know about” spotlighted @sonnenbooks https://the-caruthers-institute.foleon.com/florida-comic-cons/may-june-2020-copy-1-copy-1/sonnenbooks/ \nAdditionally\, the following appeared in FCDM’s November 2020 issue called “8 Florida cosplayers and one dozen Sailor Moons to cheer you up:” \n@rbilcosplay  https://the-caruthers-institute.foleon.com/florida-comic-cons/florida-cosplay-digital-magazine-november-2020-issue/rbilcosplay/ \n@smiley_bandit https://the-caruthers-institute.foleon.com/florida-comic-cons/florida-cosplay-digital-magazine-november-2020-issue/smileybandit/ \n@sheriru.cosplay https://the-caruthers-institute.foleon.com/florida-comic-cons/florida-cosplay-digital-magazine-november-2020-issue/sherirucosplay/ \nMoreover\, @Harlequin_Arts was featured in the Winter 2021 issue called “17 Florida Cosplayers Who Make 2021 Look Brighter @Harlequin_Arts – Florida Cosplay Digital Magazine Winter 2021 issue (foleon.com)
URL:https://floridacomiccons.com/event/fanboy-expo-orlando/
LOCATION:The Wyndham Orlando Resort International Drive\, 8001 International Drive\, Orlando\, FL\, 32819\, United States
ATTACH;FMTTYPE=image/jpeg:https://floridacomiccons.com/wp-content/uploads/2020/04/top1orlando21.jpg
END:VEVENT
END:VCALENDAR