BEGIN:VCALENDAR
VERSION:2.0
PRODID:-//Florida Comic Cons - ECPv6.15.20//NONSGML v1.0//EN
CALSCALE:GREGORIAN
METHOD:PUBLISH
X-WR-CALNAME:Florida Comic Cons
X-ORIGINAL-URL:https://floridacomiccons.com
X-WR-CALDESC:Events for Florida Comic Cons
REFRESH-INTERVAL;VALUE=DURATION:PT1H
X-Robots-Tag:noindex
X-PUBLISHED-TTL:PT1H
BEGIN:VTIMEZONE
TZID:America/New_York
BEGIN:DAYLIGHT
TZOFFSETFROM:-0500
TZOFFSETTO:-0400
TZNAME:EDT
DTSTART:20200308T070000
END:DAYLIGHT
BEGIN:STANDARD
TZOFFSETFROM:-0400
TZOFFSETTO:-0500
TZNAME:EST
DTSTART:20201101T060000
END:STANDARD
BEGIN:DAYLIGHT
TZOFFSETFROM:-0500
TZOFFSETTO:-0400
TZNAME:EDT
DTSTART:20210314T070000
END:DAYLIGHT
BEGIN:STANDARD
TZOFFSETFROM:-0400
TZOFFSETTO:-0500
TZNAME:EST
DTSTART:20211107T060000
END:STANDARD
BEGIN:DAYLIGHT
TZOFFSETFROM:-0500
TZOFFSETTO:-0400
TZNAME:EDT
DTSTART:20220313T070000
END:DAYLIGHT
BEGIN:STANDARD
TZOFFSETFROM:-0400
TZOFFSETTO:-0500
TZNAME:EST
DTSTART:20221106T060000
END:STANDARD
END:VTIMEZONE
BEGIN:VEVENT
DTSTART;TZID=America/New_York:20210606T120000
DTEND;TZID=America/New_York:20210606T180000
DTSTAMP:20260419T175436
CREATED:20210309T231533Z
LAST-MODIFIED:20210309T231953Z
UID:1971-1622980800-1623002400@floridacomiccons.com
SUMMARY:Lake Collect-A-Con
DESCRIPTION:Lake Collect-A-Con 2021 is scheduled\nLake Collect-A-Con is June 6 from noon-6 p.m. at Lake Square Mall in Leesburg\, Florida. The event\, in its eleventh year\, was previously in Mount Dora\, but has since moved to the more spacious accommodations of Lake Square Mall. \nCelebrate Captain America’s 80th anniversary\nLake Collect-A-Con is highlighting Captain America’s 80th anniversary at the show. It was March\, 1941 when Jack Kirby and Joe Simon\, who would later become comic book legends\, brought Steve Rogers and Captain America into the comic book world.  Marvel Comics is celebrating in many ways\, which includes a giant-sized special called “Captain America Tribute #1.” \nLake Collect-A-Con is free admission\nAdmission is free. Event cancellations are updated at the Florida Comic Cons 2021 Calendar. \nLake Collect-A-Con guests\nGuests to be announced soon.
URL:https://floridacomiccons.com/event/lake-collect-a-con/
LOCATION:Lake Square Mall\, 10401 Us Highway 441\, Leesburg\, FL\, 34788\, United States
ATTACH;FMTTYPE=image/jpeg:https://floridacomiccons.com/wp-content/uploads/2021/03/Lake-Collect-a-con3.jpg
END:VEVENT
END:VCALENDAR