BEGIN:VCALENDAR
VERSION:2.0
PRODID:-//Florida Comic Cons - ECPv6.15.20//NONSGML v1.0//EN
CALSCALE:GREGORIAN
METHOD:PUBLISH
X-WR-CALNAME:Florida Comic Cons
X-ORIGINAL-URL:https://floridacomiccons.com
X-WR-CALDESC:Events for Florida Comic Cons
REFRESH-INTERVAL;VALUE=DURATION:PT1H
X-Robots-Tag:noindex
X-PUBLISHED-TTL:PT1H
BEGIN:VTIMEZONE
TZID:America/New_York
BEGIN:DAYLIGHT
TZOFFSETFROM:-0500
TZOFFSETTO:-0400
TZNAME:EDT
DTSTART:20220313T070000
END:DAYLIGHT
BEGIN:STANDARD
TZOFFSETFROM:-0400
TZOFFSETTO:-0500
TZNAME:EST
DTSTART:20221106T060000
END:STANDARD
BEGIN:DAYLIGHT
TZOFFSETFROM:-0500
TZOFFSETTO:-0400
TZNAME:EDT
DTSTART:20230312T070000
END:DAYLIGHT
BEGIN:STANDARD
TZOFFSETFROM:-0400
TZOFFSETTO:-0500
TZNAME:EST
DTSTART:20231105T060000
END:STANDARD
BEGIN:DAYLIGHT
TZOFFSETFROM:-0500
TZOFFSETTO:-0400
TZNAME:EDT
DTSTART:20240310T070000
END:DAYLIGHT
BEGIN:STANDARD
TZOFFSETFROM:-0400
TZOFFSETTO:-0500
TZNAME:EST
DTSTART:20241103T060000
END:STANDARD
END:VTIMEZONE
BEGIN:VEVENT
DTSTART;TZID=America/New_York:20230714T100000
DTEND;TZID=America/New_York:20230716T180000
DTSTAMP:20260420T145100
CREATED:20221014T175223Z
LAST-MODIFIED:20230520T173931Z
UID:8454-1689328800-1689530400@floridacomiccons.com
SUMMARY:Metrocon 2023
DESCRIPTION:Basic Info\nMetrocon 2023 is on July 14-16 at the Tampa Convention Center. And Florida’s largest anime convention is celebrating it’s 20 anniversary! This outstanding 3-day con is held at the Tampa Convention Center. Hours are Friday and Saturday 10 a.m. – 3 a.m.\, and Sunday 10 a.m. – 6 p.m. \nTicket Info\nFriday ticket is $35\, Saturday is $45\, Sunday is $40\, and a three-day pass is $80. In addition\, a single day child pass is $20 (children 6-years-old and younger are admitted free)\, and a three-day child pass is $40. Get tickets. \nHotel Info\nHotels available in downtown Tampa are the Tampa Marriott Water Street at 4 Water St\, Westin Tampa Waterside at 201 Knights Run Avenue\, and Hilton Tampa Downtown at 211 North Tampa Street. \n\nBecome a Vendor\n\nLearn more about the vendor and artist registration info. \nFollow Metrocon on Social Media\nVisit Tampa’s largest anime convention on Facebook and Instagram (and while you’re perusing their social media\, check out Florida Comic Cons on Facebook and Instagram). \nNeed Help Finding Comic Cons in Florida?\nFurthermore\, Florida Comic Cons provides the Con Calendar — a curated calendar of upcoming comic\, anime\, horror\, science fiction\, fantasy and pop culture conventions in The Sunshine State. Event listings include con info as well as helpful links for things like buying tickets and registering as a vendor.
URL:https://floridacomiccons.com/event/metrocon-2023/
LOCATION:Tampa Convention Center\, 333 S Franklin St\, Tampa\, Florida\, 33602
CATEGORIES:Anime Convention
END:VEVENT
END:VCALENDAR