BEGIN:VCALENDAR
VERSION:2.0
PRODID:-//Florida Comic Cons - ECPv6.15.20//NONSGML v1.0//EN
CALSCALE:GREGORIAN
METHOD:PUBLISH
X-WR-CALNAME:Florida Comic Cons
X-ORIGINAL-URL:https://floridacomiccons.com
X-WR-CALDESC:Events for Florida Comic Cons
REFRESH-INTERVAL;VALUE=DURATION:PT1H
X-Robots-Tag:noindex
X-PUBLISHED-TTL:PT1H
BEGIN:VTIMEZONE
TZID:America/New_York
BEGIN:DAYLIGHT
TZOFFSETFROM:-0500
TZOFFSETTO:-0400
TZNAME:EDT
DTSTART:20230312T070000
END:DAYLIGHT
BEGIN:STANDARD
TZOFFSETFROM:-0400
TZOFFSETTO:-0500
TZNAME:EST
DTSTART:20231105T060000
END:STANDARD
BEGIN:DAYLIGHT
TZOFFSETFROM:-0500
TZOFFSETTO:-0400
TZNAME:EDT
DTSTART:20240310T070000
END:DAYLIGHT
BEGIN:STANDARD
TZOFFSETFROM:-0400
TZOFFSETTO:-0500
TZNAME:EST
DTSTART:20241103T060000
END:STANDARD
BEGIN:DAYLIGHT
TZOFFSETFROM:-0500
TZOFFSETTO:-0400
TZNAME:EDT
DTSTART:20250309T070000
END:DAYLIGHT
BEGIN:STANDARD
TZOFFSETFROM:-0400
TZOFFSETTO:-0500
TZNAME:EST
DTSTART:20251102T060000
END:STANDARD
END:VTIMEZONE
BEGIN:VEVENT
DTSTART;VALUE=DATE:20240921
DTEND;VALUE=DATE:20240923
DTSTAMP:20260419T113821
CREATED:20240607T222408Z
LAST-MODIFIED:20240608T033956Z
UID:13989-1726876800-1727049599@floridacomiccons.com
SUMMARY:Ocala Comic Con 2024
DESCRIPTION:Basic InfoOcala Comic Con is September 21-22 at the World Equestrian Center in Ocala. TicketsTicket prices are Saturday $30\, Sunday $25\, weekend $40.  Kids (ages 6-12) packages are available. Buy tickets at Ocala Comic Con site.   								\n				\n				\n				\n							\n			\n						\n		\n						\n				\n					\n		\n					\n		\n				\n						\n					\n			\n						\n				\n									we also recommend								\n				\n				\n				\n									With more than 40 annual\, 2-plus day fan conventions\, Florida is the best place in the universe for comic\, anime\, horror\, sci-fi\, and pop-culture cons. Given your interest in this event\, Florida Comic Cons also recommends the following. 								\n				\n				\n						\n					\n			\n						\n				\n																\n															\n															\n				\n					\n		\n				\n			\n						\n				\n																\n															\n															\n				\n					\n		\n				\n			\n						\n				\n																\n															\n															\n				\n					\n		\n					\n		\n				\n				\n							\n			\n						\n		\n						\n				\n				\n				\n									Need Help Finding Cons?\nFlorida Comic Cons has the Con Calendar\, a curated calendar of comic\, anime\, horror\, and other pop-culture conventions to keep you\, the fandom\, informed and apprised (you’re welcome). Quit wasting time with internet searches that take too long and still leave you asking questions.  The Con Calendar’s event listings include all the con info like ticket prices and links\, and lots more!
URL:https://floridacomiccons.com/event/ocala-comic-con-2024/
LOCATION:world equestrian center\, 1390 NW 80th Avenue\, Ocala\, Florida\, 34482
ATTACH;FMTTYPE=image/png:https://floridacomiccons.com/wp-content/uploads/2024/06/ocala-comic-con-24.png
END:VEVENT
END:VCALENDAR