BEGIN:VCALENDAR
VERSION:2.0
PRODID:-//Florida Comic Cons - ECPv6.15.20//NONSGML v1.0//EN
CALSCALE:GREGORIAN
METHOD:PUBLISH
X-WR-CALNAME:Florida Comic Cons
X-ORIGINAL-URL:https://floridacomiccons.com
X-WR-CALDESC:Events for Florida Comic Cons
REFRESH-INTERVAL;VALUE=DURATION:PT1H
X-Robots-Tag:noindex
X-PUBLISHED-TTL:PT1H
BEGIN:VTIMEZONE
TZID:America/New_York
BEGIN:DAYLIGHT
TZOFFSETFROM:-0500
TZOFFSETTO:-0400
TZNAME:EDT
DTSTART:20250309T070000
END:DAYLIGHT
BEGIN:STANDARD
TZOFFSETFROM:-0400
TZOFFSETTO:-0500
TZNAME:EST
DTSTART:20251102T060000
END:STANDARD
BEGIN:DAYLIGHT
TZOFFSETFROM:-0500
TZOFFSETTO:-0400
TZNAME:EDT
DTSTART:20260308T070000
END:DAYLIGHT
BEGIN:STANDARD
TZOFFSETFROM:-0400
TZOFFSETTO:-0500
TZNAME:EST
DTSTART:20261101T060000
END:STANDARD
BEGIN:DAYLIGHT
TZOFFSETFROM:-0500
TZOFFSETTO:-0400
TZNAME:EDT
DTSTART:20270314T070000
END:DAYLIGHT
BEGIN:STANDARD
TZOFFSETFROM:-0400
TZOFFSETTO:-0500
TZNAME:EST
DTSTART:20271107T060000
END:STANDARD
END:VTIMEZONE
BEGIN:VEVENT
DTSTART;TZID=America/New_York:20260919T100000
DTEND;TZID=America/New_York:20260919T180000
DTSTAMP:20260419T130025
CREATED:20251214T153558Z
LAST-MODIFIED:20251214T153704Z
UID:37724-1789812000-1789840800@floridacomiccons.com
SUMMARY:Ocala Comic Con 2026
DESCRIPTION:Basic Info\nOcala Comic Con \nDates: September 19 – 20\, 2026 \nLocation: Ocala\, FL. Address: 1750 NW 80th Ave\, Ocala\, FL 34482 \nDoors Open:  \nSATURDAY: 10AM-6PM \nSUNDAY: 10AM-5PM \nInstagram: @ocalacomiccon \ntickets & Badges\n\nTICKET PRICES RAISE TO OUR DAY OF PRICES ON MONDAY\, SEP 15.\n\n\nSATURDAY: $40SUNDAY: $35WEEKEND: $60weekend vip $225\n\nRegistration Hours\nCOMING SOON… \nParking\nFree! \nFCC Room Blocks!\nN/A \nOther:\nCosplay & Other Contest Sing-ups: Link \nSchedule: Link \nGet Involved: Here
URL:https://floridacomiccons.com/event/ocala-comic-con-2026/
LOCATION:The World Equestrian Center\, 1390 NW 80th Ave\, Ocala\, FL 34482\, Ocala\, FL\, United States
CATEGORIES:2+ Day Cons,Comic Con
ATTACH;FMTTYPE=image/png:https://floridacomiccons.com/wp-content/uploads/2025/12/ADD-TO-CALENDAR-4.png
END:VEVENT
END:VCALENDAR