BEGIN:VCALENDAR
VERSION:2.0
PRODID:-//Florida Comic Cons - ECPv6.15.20//NONSGML v1.0//EN
CALSCALE:GREGORIAN
METHOD:PUBLISH
X-WR-CALNAME:Florida Comic Cons
X-ORIGINAL-URL:https://floridacomiccons.com
X-WR-CALDESC:Events for Florida Comic Cons
REFRESH-INTERVAL;VALUE=DURATION:PT1H
X-Robots-Tag:noindex
X-PUBLISHED-TTL:PT1H
BEGIN:VTIMEZONE
TZID:America/New_York
BEGIN:DAYLIGHT
TZOFFSETFROM:-0500
TZOFFSETTO:-0400
TZNAME:EDT
DTSTART:20200308T070000
END:DAYLIGHT
BEGIN:STANDARD
TZOFFSETFROM:-0400
TZOFFSETTO:-0500
TZNAME:EST
DTSTART:20201101T060000
END:STANDARD
BEGIN:DAYLIGHT
TZOFFSETFROM:-0500
TZOFFSETTO:-0400
TZNAME:EDT
DTSTART:20210314T070000
END:DAYLIGHT
BEGIN:STANDARD
TZOFFSETFROM:-0400
TZOFFSETTO:-0500
TZNAME:EST
DTSTART:20211107T060000
END:STANDARD
BEGIN:DAYLIGHT
TZOFFSETFROM:-0500
TZOFFSETTO:-0400
TZNAME:EDT
DTSTART:20220313T070000
END:DAYLIGHT
BEGIN:STANDARD
TZOFFSETFROM:-0400
TZOFFSETTO:-0500
TZNAME:EST
DTSTART:20221106T060000
END:STANDARD
END:VTIMEZONE
BEGIN:VEVENT
DTSTART;VALUE=DATE:20210911
DTEND;VALUE=DATE:20210913
DTSTAMP:20260418T234609
CREATED:20200314T013810Z
LAST-MODIFIED:20210828T214632Z
UID:1125-1631318400-1631491199@floridacomiccons.com
SUMMARY:Ocala Comic Con
DESCRIPTION:Ocala Comic Con is a comic convention in Ocala\, Florida. And the 2021 event is September 11-12 at the World Equestrian Center.  Saturday hours are 10 a.m. – 7 p.m.\, and Sunday 10 a.m. – 5 p.m. (venue address\, maps and directions are at the bottom of this event listing). \nGuests at Ocala Comic Con 2021\nThe 15 guests at Ocala Comic Con include voice actors\, comic artists\, a Power Ranger\, and a top talent from Star Wars. \nMatthew Wood\nMathew Wood is a voice actor and sound editor who is known worldwide for his work on Star Wars. He voices General Grievous in Star Wars: Episode III – Revenge of the Sith\, Star Wars: The Clone Wars and various video games. In addition\, Wood is a supervising sound editor at Skywalker Sound. He has garnered five Academy Award nominations for sound editing. \n \n\nKyle Hebert\nKyle Hebert is a prolific voice actor best known for many roles — so we’re going to list some of them: \n\nWreck-It Ralph/Marvel Vs Capcom/Street Fighter (Ryu)\nNaruto (Kiba)\nBleach (Aizen\, Ganju)\nMy Hero Academia (Fatgum)\nKakyoin (Jojo’s Bizarre Adventure: Stardust Crusaders) and Gurren Lagann (Kamina)\nDragonball Z (teen Gohan)\nDragonball Super (adult Gohan in Dragonball Super\nOne Punch Man (Atomic Samurai)\nBlue Exorcist (Bon Suguro)\nFire Emblem (Frederick\, Validar)\nFullmetal Alchemist (Vato Falman)\nTales of Symphonia (Richter Abend)\nStar Ocean (Dias\, Arumat\, Crow).\nPokemon (Professor Oak in “Origins”\, Darmanitan in “Journeys”\, Eusine in “Generations”)\nDigimon (Ballistamon and Dorulumon in “Fusion”)\nSonic (Big the Cat in “Colors”)\nFinal Fantasy (Nimbus in “Type-0”)\nWorld of Warcraft (Algalon the Observer)\n\n \n\nJohnny Yong Bosch\nJohnny Yong Bosch is an actor as well as a voice actor. He is best known for his role as the second Black Power Ranger to be followed by the Green Zeo Ranger and first Green Turbo Ranger in the Power Rangers franchise. He also voices Ichigo Kurosaki in Bleach\, Itsuki Koizumi in The Melancholy of Haruhi Suzumiya\, Izaya Orihara in Durarara!!\, and Renton Thurston in Eureka Seven —  to mention only a few. \n \n\nNeil Kaplan\nNeil Kaplan is a voice actor who has been an epic hero and a despicable villain. He voiced Optimus Prime from Transformers: Robots in Disguise as well as his award winning portrayal of galactic Emperor Zarkon\, from Voltron: Legendary Defender. \n     \n\nOther guests\nOther guests include artist Clay Mann\, author and artist Peter Raymunda\, colorist Mike Spicer\, and others. \n  \nFlorida Cosplay Digital Magazine is a seasonal magazine featuring top talent\nFlorida Cosplay Digital Magazine\, published by Florida Comic Cons\, is a seasonal magazine. Click below for past issues\, which are always free. If you want to be considered for the magazine\, please submit. \n \n \n \n \n \n \n  \nNeed help finding comic cons in Florida?\nFlorida Comic Cons curates the Con Calendar\, which is the most comprehensive calendar of comic convention in The Sunshine State. If you live in Florida\, you’re likely closer to more comic cons than you realize. Our Con Map can help you show how close you are to annual events. \n \n 
URL:https://floridacomiccons.com/event/ocala-comic-con/
LOCATION:world equestrian center\, 1390 NW 80th Avenue\, Ocala\, Florida\, 34482
ATTACH;FMTTYPE=image/png:https://floridacomiccons.com/wp-content/uploads/2020/03/ocala-comic-con.png
END:VEVENT
END:VCALENDAR