BEGIN:VCALENDAR
VERSION:2.0
PRODID:-//Florida Comic Cons - ECPv6.15.20//NONSGML v1.0//EN
CALSCALE:GREGORIAN
METHOD:PUBLISH
X-WR-CALNAME:Florida Comic Cons
X-ORIGINAL-URL:https://floridacomiccons.com
X-WR-CALDESC:Events for Florida Comic Cons
REFRESH-INTERVAL;VALUE=DURATION:PT1H
X-Robots-Tag:noindex
X-PUBLISHED-TTL:PT1H
BEGIN:VTIMEZONE
TZID:America/New_York
BEGIN:DAYLIGHT
TZOFFSETFROM:-0500
TZOFFSETTO:-0400
TZNAME:EDT
DTSTART:20250309T070000
END:DAYLIGHT
BEGIN:STANDARD
TZOFFSETFROM:-0400
TZOFFSETTO:-0500
TZNAME:EST
DTSTART:20251102T060000
END:STANDARD
BEGIN:DAYLIGHT
TZOFFSETFROM:-0500
TZOFFSETTO:-0400
TZNAME:EDT
DTSTART:20260308T070000
END:DAYLIGHT
BEGIN:STANDARD
TZOFFSETFROM:-0400
TZOFFSETTO:-0500
TZNAME:EST
DTSTART:20261101T060000
END:STANDARD
BEGIN:DAYLIGHT
TZOFFSETFROM:-0500
TZOFFSETTO:-0400
TZNAME:EDT
DTSTART:20270314T070000
END:DAYLIGHT
BEGIN:STANDARD
TZOFFSETFROM:-0400
TZOFFSETTO:-0500
TZNAME:EST
DTSTART:20271107T060000
END:STANDARD
END:VTIMEZONE
BEGIN:VEVENT
DTSTART;TZID=America/New_York:20260601T080000
DTEND;TZID=America/New_York:20260630T170000
DTSTAMP:20260418T062239
CREATED:20260416T135631Z
LAST-MODIFIED:20260416T135631Z
UID:37732-1780300800-1782838800@floridacomiccons.com
SUMMARY:Otakufest Miami 2026
DESCRIPTION:Basic Info\nDates: TBA \nLocation: Miami Airport Convention Center \nDoors Open:   \nInstagram: @otakufestfl \nTickets & Badges\nFull Weekend General Admission $ \nSingle Day: General Admission $  \nFull Weekend VIP Admission $ \nShow Hours:\nCOMING SOON… \nParking\nN/A \nFCC Room Blocks!\nN/A \nOther:\nCosplay & Other Contest Sing-ups: Contests N/A \nSchedule: Link N/A \nGet Involved: Here  \nPast FCC Coverage:  \n\n3 Huge Florida Anime Conventions Comi...\nOtakufest 2025\nFlorida Comic Cons 2026 Top Conventions!
URL:https://floridacomiccons.com/event/otakufest-miami-2026/
CATEGORIES:2+ Day Cons,Anime Convention
ATTACH;FMTTYPE=image/png:https://floridacomiccons.com/wp-content/uploads/2025/12/otakufest-miami-1-1.png
END:VEVENT
END:VCALENDAR