BEGIN:VCALENDAR
VERSION:2.0
PRODID:-//Florida Comic Cons - ECPv6.15.20//NONSGML v1.0//EN
CALSCALE:GREGORIAN
METHOD:PUBLISH
X-WR-CALNAME:Florida Comic Cons
X-ORIGINAL-URL:https://floridacomiccons.com
X-WR-CALDESC:Events for Florida Comic Cons
REFRESH-INTERVAL;VALUE=DURATION:PT1H
X-Robots-Tag:noindex
X-PUBLISHED-TTL:PT1H
BEGIN:VTIMEZONE
TZID:America/New_York
BEGIN:DAYLIGHT
TZOFFSETFROM:-0500
TZOFFSETTO:-0400
TZNAME:EDT
DTSTART:20240310T070000
END:DAYLIGHT
BEGIN:STANDARD
TZOFFSETFROM:-0400
TZOFFSETTO:-0500
TZNAME:EST
DTSTART:20241103T060000
END:STANDARD
BEGIN:DAYLIGHT
TZOFFSETFROM:-0500
TZOFFSETTO:-0400
TZNAME:EDT
DTSTART:20250309T070000
END:DAYLIGHT
BEGIN:STANDARD
TZOFFSETFROM:-0400
TZOFFSETTO:-0500
TZNAME:EST
DTSTART:20251102T060000
END:STANDARD
BEGIN:DAYLIGHT
TZOFFSETFROM:-0500
TZOFFSETTO:-0400
TZNAME:EDT
DTSTART:20260308T070000
END:DAYLIGHT
BEGIN:STANDARD
TZOFFSETFROM:-0400
TZOFFSETTO:-0500
TZNAME:EST
DTSTART:20261101T060000
END:STANDARD
END:VTIMEZONE
BEGIN:VEVENT
DTSTART;VALUE=DATE:20250214
DTEND;VALUE=DATE:20250217
DTSTAMP:20260418T184658
CREATED:20240608T014405Z
LAST-MODIFIED:20241006T024942Z
UID:14079-1739491200-1739750399@floridacomiccons.com
SUMMARY:Pensacon 2025
DESCRIPTION:Basic InfoPensacon 2025 is February 14-16 at the Pensacola Bay Center. TicketsTicket prices were not available when this event was posted. Here is link to Pensacon tickets.   								\n				\n				\n				\n							\n			\n						\n		\n						\n				\n					\n		\n					\n		\n				\n						\n					\n			\n						\n				\n									we also recommend								\n				\n				\n				\n									With more than 40 annual\, 2-plus day fan conventions\, Florida is the best place in the universe for comic\, anime\, horror\, sci-fi\, and pop-culture cons. Given your interest in this event\, Florida Comic Cons also recommends the following. 								\n				\n				\n						\n					\n			\n						\n				\n																														\n				\n					\n		\n				\n			\n						\n				\n																														\n				\n					\n		\n				\n			\n						\n				\n																														\n				\n					\n		\n					\n		\n				\n				\n							\n			\n						\n		\n						\n				\n				\n				\n									Need Help Finding Cons?\nFlorida Comic Cons has the Con Calendar\, a curated calendar of comic\, anime\, horror\, and other pop-culture conventions to keep you\, the fandom\, informed and apprised (you’re welcome). Quit wasting time with internet searches that take too long and still leave you asking questions.  The Con Calendar’s event listings include all the con info like ticket prices and links\, and lots more!
URL:https://floridacomiccons.com/event/pensacon-2025/
LOCATION:Pensacola Bay Center\, 201 E Gregory St\, Pensacola\, Florida\, 32502
CATEGORIES:2+ Day Cons,Anime Convention,Comic Con,Pop Culture Con,Sci-Fi & Fantasy Con
ATTACH;FMTTYPE=image/png:https://floridacomiccons.com/wp-content/uploads/2024/06/pensacon-25.png
END:VEVENT
END:VCALENDAR