BEGIN:VCALENDAR
VERSION:2.0
PRODID:-//Florida Comic Cons - ECPv6.15.20//NONSGML v1.0//EN
CALSCALE:GREGORIAN
METHOD:PUBLISH
X-WR-CALNAME:Florida Comic Cons
X-ORIGINAL-URL:https://floridacomiccons.com
X-WR-CALDESC:Events for Florida Comic Cons
REFRESH-INTERVAL;VALUE=DURATION:PT1H
X-Robots-Tag:noindex
X-PUBLISHED-TTL:PT1H
BEGIN:VTIMEZONE
TZID:America/New_York
BEGIN:DAYLIGHT
TZOFFSETFROM:-0500
TZOFFSETTO:-0400
TZNAME:EDT
DTSTART:20240310T070000
END:DAYLIGHT
BEGIN:STANDARD
TZOFFSETFROM:-0400
TZOFFSETTO:-0500
TZNAME:EST
DTSTART:20241103T060000
END:STANDARD
BEGIN:DAYLIGHT
TZOFFSETFROM:-0500
TZOFFSETTO:-0400
TZNAME:EDT
DTSTART:20250309T070000
END:DAYLIGHT
BEGIN:STANDARD
TZOFFSETFROM:-0400
TZOFFSETTO:-0500
TZNAME:EST
DTSTART:20251102T060000
END:STANDARD
BEGIN:DAYLIGHT
TZOFFSETFROM:-0500
TZOFFSETTO:-0400
TZNAME:EDT
DTSTART:20260308T070000
END:DAYLIGHT
BEGIN:STANDARD
TZOFFSETFROM:-0400
TZOFFSETTO:-0500
TZNAME:EST
DTSTART:20261101T060000
END:STANDARD
END:VTIMEZONE
BEGIN:VEVENT
DTSTART;TZID=America/New_York:20250220T080000
DTEND;TZID=America/New_York:20250222T170000
DTSTAMP:20260418T152420
CREATED:20251214T182214Z
LAST-MODIFIED:20251214T182214Z
UID:37751-1740038400-1740243600@floridacomiccons.com
SUMMARY:PensaCon 2026
DESCRIPTION:Basic Info\nDates: February 20-22 2026  \nLocation: PENSACOLA BAY CENTER\n201 E.GREGORY ST\nPENSACOLA\, FL 32502 \nDoors Open:  10:00am \nInstagram: \nTickets & Badges\nFull Weekend General Admission $ \nSingle Day: General Admission $  \nFull Weekend VIP Admission $ \n  \nShow Hours:\n\n\n\nPensacon Hours\n\n\nFriday\n1:00 pm – 7:00 pm\n\n\nSaturday\n10:00 am – 6:00 pm\n\n\nSunday\n10:00 am – 5:00 pm\n\n\n\nParking\nN/A \nFCC Room Blocks!\nN/A \nOther:\nCosplay & Other Contest Sing-ups: Contests N/A \nSchedule: Link N/A \nGet Involved: Here N/A \nPast Coverage: 1\, 2\, 3\, \n\nFlorida Comic Cons 2026 Top Conventions!
URL:https://floridacomiccons.com/event/pensacon-2026-2/
CATEGORIES:2+ Day Cons,Collectables Con,Comic Con
ATTACH;FMTTYPE=image/png:https://floridacomiccons.com/wp-content/uploads/2025/12/pensacon.png
END:VEVENT
END:VCALENDAR