BEGIN:VCALENDAR
VERSION:2.0
PRODID:-//Florida Comic Cons - ECPv6.15.20//NONSGML v1.0//EN
CALSCALE:GREGORIAN
METHOD:PUBLISH
X-WR-CALNAME:Florida Comic Cons
X-ORIGINAL-URL:https://floridacomiccons.com
X-WR-CALDESC:Events for Florida Comic Cons
REFRESH-INTERVAL;VALUE=DURATION:PT1H
X-Robots-Tag:noindex
X-PUBLISHED-TTL:PT1H
BEGIN:VTIMEZONE
TZID:America/New_York
BEGIN:DAYLIGHT
TZOFFSETFROM:-0500
TZOFFSETTO:-0400
TZNAME:EDT
DTSTART:20240310T070000
END:DAYLIGHT
BEGIN:STANDARD
TZOFFSETFROM:-0400
TZOFFSETTO:-0500
TZNAME:EST
DTSTART:20241103T060000
END:STANDARD
BEGIN:DAYLIGHT
TZOFFSETFROM:-0500
TZOFFSETTO:-0400
TZNAME:EDT
DTSTART:20250309T070000
END:DAYLIGHT
BEGIN:STANDARD
TZOFFSETFROM:-0400
TZOFFSETTO:-0500
TZNAME:EST
DTSTART:20251102T060000
END:STANDARD
BEGIN:DAYLIGHT
TZOFFSETFROM:-0500
TZOFFSETTO:-0400
TZNAME:EDT
DTSTART:20260308T070000
END:DAYLIGHT
BEGIN:STANDARD
TZOFFSETFROM:-0400
TZOFFSETTO:-0500
TZNAME:EST
DTSTART:20261101T060000
END:STANDARD
END:VTIMEZONE
BEGIN:VEVENT
DTSTART;TZID=America/New_York:20250510T100000
DTEND;TZID=America/New_York:20250510T190000
DTSTAMP:20260419T103548
CREATED:20250208T215918Z
LAST-MODIFIED:20250208T215918Z
UID:17848-1746871200-1746903600@floridacomiccons.com
SUMMARY:SiestaCon
DESCRIPTION:SiestaCon 2025 will once again take over Robarts Arena in Sarasota\, FL on May 10th\, 2025. \nThe goal of the convention is to put on a great event that is affordable. Tickets are $10 advance with $12 day of the event. Kids under 10 are free with parents or guardians. \nOur vendors provide a diverse array of products; however\, we make a point to have comics heavily represented. This past year roughly a quarter of our 10 x 10 booths were comic vendors\, as well as several artist alley tables going to self-published writers and local independent publishers. \nWe are very focused on Sarasota area businesses and Florida based creators.
URL:https://floridacomiccons.com/event/siestacon/
LOCATION:Robarts Arena\, 3000 Ringling Blvd\, Sarasota\, FL\, 34237\, United States
CATEGORIES:Comic Con
ATTACH;FMTTYPE=image/png:https://floridacomiccons.com/wp-content/uploads/2024/11/siestacon_logoV3_hero.png
ORGANIZER;CN="Dark Side Comics and Games":MAILTO:info@darksidecomics.com
END:VEVENT
END:VCALENDAR