BEGIN:VCALENDAR
VERSION:2.0
PRODID:-//Florida Comic Cons - ECPv6.15.20//NONSGML v1.0//EN
CALSCALE:GREGORIAN
METHOD:PUBLISH
X-WR-CALNAME:Florida Comic Cons
X-ORIGINAL-URL:https://floridacomiccons.com
X-WR-CALDESC:Events for Florida Comic Cons
REFRESH-INTERVAL;VALUE=DURATION:PT1H
X-Robots-Tag:noindex
X-PUBLISHED-TTL:PT1H
BEGIN:VTIMEZONE
TZID:America/New_York
BEGIN:DAYLIGHT
TZOFFSETFROM:-0500
TZOFFSETTO:-0400
TZNAME:EDT
DTSTART:20220313T070000
END:DAYLIGHT
BEGIN:STANDARD
TZOFFSETFROM:-0400
TZOFFSETTO:-0500
TZNAME:EST
DTSTART:20221106T060000
END:STANDARD
BEGIN:DAYLIGHT
TZOFFSETFROM:-0500
TZOFFSETTO:-0400
TZNAME:EDT
DTSTART:20230312T070000
END:DAYLIGHT
BEGIN:STANDARD
TZOFFSETFROM:-0400
TZOFFSETTO:-0500
TZNAME:EST
DTSTART:20231105T060000
END:STANDARD
BEGIN:DAYLIGHT
TZOFFSETFROM:-0500
TZOFFSETTO:-0400
TZNAME:EDT
DTSTART:20240310T070000
END:DAYLIGHT
BEGIN:STANDARD
TZOFFSETFROM:-0400
TZOFFSETTO:-0500
TZNAME:EST
DTSTART:20241103T060000
END:STANDARD
END:VTIMEZONE
BEGIN:VEVENT
DTSTART;VALUE=DATE:20231027
DTEND;VALUE=DATE:20231030
DTSTAMP:20260419T153113
CREATED:20230520T220139Z
LAST-MODIFIED:20230520T220139Z
UID:11346-1698364800-1698623999@floridacomiccons.com
SUMMARY:Spooky Empire 2023 October event
DESCRIPTION:Basic Info\nSpooky Empire 2023 October event is on October 27-29 at the Hyatt Regency Orlando. (note\, Spooky Empire has two annual events\, one in May/June\, and the other in October) \nTickets\nFriday single-day ticket is $40\, Saturday ticket is $45\, Sunday is $40\, and weekend pass is $75 (prices increase $5 at door). Children 10 and under are free. \nLast year’s coverage of Spooky Empire 2022\nFlorida Comic Cons was on the scene last year. Check out our blog post “Spooky Empire was Terrific!” And here’s a few photos\, too! \n \n \nNeed help finding cons in Florida?\nFlorida Comic Cons has the Con Calendar\, a curated calendar of comic\, anime\, horror\, and other pop-culture conventions to keep you\, the fandom\, informed and apprised (you’re welcome). Quit wasting time with internet searches that take too long and still leave you asking questions. The Con Calendar’s event listings include all the con info like ticket prices and links\, vendor registration\, and lots more!
URL:https://floridacomiccons.com/event/spooky-empire-2023-october-event/
LOCATION:Hyatt Regency Orlando\, 9801 International Drive\, Orlando\, Florida\, 32819
ATTACH;FMTTYPE=image/jpeg:https://floridacomiccons.com/wp-content/uploads/2023/05/con-calendar-listing-2023-1.jpg
END:VEVENT
END:VCALENDAR