BEGIN:VCALENDAR
VERSION:2.0
PRODID:-//Florida Comic Cons - ECPv6.15.20//NONSGML v1.0//EN
CALSCALE:GREGORIAN
METHOD:PUBLISH
X-WR-CALNAME:Florida Comic Cons
X-ORIGINAL-URL:https://floridacomiccons.com
X-WR-CALDESC:Events for Florida Comic Cons
REFRESH-INTERVAL;VALUE=DURATION:PT1H
X-Robots-Tag:noindex
X-PUBLISHED-TTL:PT1H
BEGIN:VTIMEZONE
TZID:America/New_York
BEGIN:DAYLIGHT
TZOFFSETFROM:-0500
TZOFFSETTO:-0400
TZNAME:EDT
DTSTART:20250309T070000
END:DAYLIGHT
BEGIN:STANDARD
TZOFFSETFROM:-0400
TZOFFSETTO:-0500
TZNAME:EST
DTSTART:20251102T060000
END:STANDARD
BEGIN:DAYLIGHT
TZOFFSETFROM:-0500
TZOFFSETTO:-0400
TZNAME:EDT
DTSTART:20260308T070000
END:DAYLIGHT
BEGIN:STANDARD
TZOFFSETFROM:-0400
TZOFFSETTO:-0500
TZNAME:EST
DTSTART:20261101T060000
END:STANDARD
BEGIN:DAYLIGHT
TZOFFSETFROM:-0500
TZOFFSETTO:-0400
TZNAME:EDT
DTSTART:20270314T070000
END:DAYLIGHT
BEGIN:STANDARD
TZOFFSETFROM:-0400
TZOFFSETTO:-0500
TZNAME:EST
DTSTART:20271107T060000
END:STANDARD
END:VTIMEZONE
BEGIN:VEVENT
DTSTART;VALUE=DATE:20260228
DTEND;VALUE=DATE:20260302
DTSTAMP:20260419T105406
CREATED:20250419T185205Z
LAST-MODIFIED:20260225T225738Z
UID:19893-1772236800-1772409599@floridacomiccons.com
SUMMARY:St. Pete Comic Con 2026
DESCRIPTION:St. Pete Comic Con 2026 is February 28-March 1 at the St. Petersburg Coliseum. This is the 5th annual event that features comics\, anime\, sci-fi & fantasy\, and gaming. TicketsSaturday: $25Sunday: $20Weekend: $35VIP: $125ParkingParking is free. Past Coverage5 Amazing Reasons To Attend St. Pete Comic Con 202510 Incredible Reasons to Attend St. Pete Comic Con 2024								\n				\n					\n				\n		\n					\n				\n				\n							\n			\n						\n		\n						\n				\n					\n				\n		\n					\n				\n				\n												\n											\n															\n											Event Listing Sponsor
URL:https://floridacomiccons.com/event/st-pete-comic-con-2026/
LOCATION:St. Petersburg Marriott Clearwater\, 2600 Roosevelt Blvd N\, st petersburg\, FL\, 33716\, United States
CATEGORIES:2+ Day Cons,Anime Convention,Collectables Con,Comic Con,Pop Culture Con,Sci-Fi & Fantasy Con
ATTACH;FMTTYPE=image/png:https://floridacomiccons.com/wp-content/uploads/2025/12/17.png
END:VEVENT
END:VCALENDAR