BEGIN:VCALENDAR
VERSION:2.0
PRODID:-//Florida Comic Cons - ECPv6.15.20//NONSGML v1.0//EN
CALSCALE:GREGORIAN
METHOD:PUBLISH
X-WR-CALNAME:Florida Comic Cons
X-ORIGINAL-URL:https://floridacomiccons.com
X-WR-CALDESC:Events for Florida Comic Cons
REFRESH-INTERVAL;VALUE=DURATION:PT1H
X-Robots-Tag:noindex
X-PUBLISHED-TTL:PT1H
BEGIN:VTIMEZONE
TZID:America/New_York
BEGIN:DAYLIGHT
TZOFFSETFROM:-0500
TZOFFSETTO:-0400
TZNAME:EDT
DTSTART:20220313T070000
END:DAYLIGHT
BEGIN:STANDARD
TZOFFSETFROM:-0400
TZOFFSETTO:-0500
TZNAME:EST
DTSTART:20221106T060000
END:STANDARD
BEGIN:DAYLIGHT
TZOFFSETFROM:-0500
TZOFFSETTO:-0400
TZNAME:EDT
DTSTART:20230312T070000
END:DAYLIGHT
BEGIN:STANDARD
TZOFFSETFROM:-0400
TZOFFSETTO:-0500
TZNAME:EST
DTSTART:20231105T060000
END:STANDARD
BEGIN:DAYLIGHT
TZOFFSETFROM:-0500
TZOFFSETTO:-0400
TZNAME:EDT
DTSTART:20240310T070000
END:DAYLIGHT
BEGIN:STANDARD
TZOFFSETFROM:-0400
TZOFFSETTO:-0500
TZNAME:EST
DTSTART:20241103T060000
END:STANDARD
END:VTIMEZONE
BEGIN:VEVENT
DTSTART;VALUE=DATE:20230513
DTEND;VALUE=DATE:20230515
DTSTAMP:20260419T100430
CREATED:20221014T191049Z
LAST-MODIFIED:20230220T205129Z
UID:8497-1683936000-1684108799@floridacomiccons.com
SUMMARY:Sunshine City Scare 2023
DESCRIPTION:Basic Info\nSunshine City Scare is a horror convention on May 13-14\, 2023 at the Coliseum and surrounding areas in downtown St. Petersburg. Convention hours are 10 a.m. – 5 p.m. both days. This is the first-ever horror convention for St. Petersburg. \nThe event is a new breed of horror con that features anime horror and video game horror as well as horror in movies and a very special guest. And the event is brought to you by the same gang that organized St. Pete Comic Con and Anime St. Pete. Also\, Sunshine City Scare is sponsored by Florida Comic Cons and Florida Cosplay Digital Magazine. \nTicket Info\nTicket prices are $30 for single day and $45 for weekend pass. Get tickets here. \nBecome a Vendor\nVendor booths are nearly sold out. There are remaining retailer interior booths are $325 (2 for $600). \nHotel Info\nThe hotels in the surrounding area include: \n\nThe Avalon\, located at 443 4th Avenue North (1 block from venue)\nThe Hollander\, located at 421 4th Avenue North (1 block from venue)\nThe Courtyard by Marriott\, located at 300 4th Street North (2 blocks from venue)\nThe Cordova Inn\, located at 253 2nd Avenue North (3 blocks from venue)\n\nFollow The Convention On Social Media\nVisit St. Pete’s first horror convention on Facebook and Instagram (and while you’re perusing their social media\, check out Florida Comic Cons on Facebook and Instagram). \nNeed help finding cons in Florida?\nFlorida Comic Cons has the Con Calendar\, a curated calendar of comic\, anime\, horror\, and other pop-culture conventions to keep you\, the fandom\, informed and apprised (you’re welcome). Quit wasting time with internet searches that take too long and still leave you asking questions.  The Con Calendar’s event listings include all the con info like ticket prices and links\, vendor registration\, and lots more!
URL:https://floridacomiccons.com/event/sunshine-city-scare-2023/
LOCATION:St. Petersburg Coliseum\, 535 Fourth Avenue North\, St. Petersburg\, FL\, 33701\, United States
CATEGORIES:Anime Convention
ATTACH;FMTTYPE=image/png:https://floridacomiccons.com/wp-content/uploads/2022/10/SCS-canva-logo.png
ORGANIZER;CN="Florida Comic Cons":MAILTO:dewey@floridacomiccons.com
END:VEVENT
END:VCALENDAR