BEGIN:VCALENDAR
VERSION:2.0
PRODID:-//Florida Comic Cons - ECPv6.15.20//NONSGML v1.0//EN
CALSCALE:GREGORIAN
METHOD:PUBLISH
X-WR-CALNAME:Florida Comic Cons
X-ORIGINAL-URL:https://floridacomiccons.com
X-WR-CALDESC:Events for Florida Comic Cons
REFRESH-INTERVAL;VALUE=DURATION:PT1H
X-Robots-Tag:noindex
X-PUBLISHED-TTL:PT1H
BEGIN:VTIMEZONE
TZID:America/New_York
BEGIN:DAYLIGHT
TZOFFSETFROM:-0500
TZOFFSETTO:-0400
TZNAME:EDT
DTSTART:20250309T070000
END:DAYLIGHT
BEGIN:STANDARD
TZOFFSETFROM:-0400
TZOFFSETTO:-0500
TZNAME:EST
DTSTART:20251102T060000
END:STANDARD
BEGIN:DAYLIGHT
TZOFFSETFROM:-0500
TZOFFSETTO:-0400
TZNAME:EDT
DTSTART:20260308T070000
END:DAYLIGHT
BEGIN:STANDARD
TZOFFSETFROM:-0400
TZOFFSETTO:-0500
TZNAME:EST
DTSTART:20261101T060000
END:STANDARD
BEGIN:DAYLIGHT
TZOFFSETFROM:-0500
TZOFFSETTO:-0400
TZNAME:EDT
DTSTART:20270314T070000
END:DAYLIGHT
BEGIN:STANDARD
TZOFFSETFROM:-0400
TZOFFSETTO:-0500
TZNAME:EST
DTSTART:20271107T060000
END:STANDARD
END:VTIMEZONE
BEGIN:VEVENT
DTSTART;TZID=America/New_York:20260822T100000
DTEND;TZID=America/New_York:20260823T190000
DTSTAMP:20260419T175211
CREATED:20260206T185038Z
LAST-MODIFIED:20260206T185101Z
UID:25946-1787392800-1787511600@floridacomiccons.com
SUMMARY:Tanoshii Con- An All Fandom Con 2026
DESCRIPTION:We’re BACK at the Ocean Center in Daytona Beach on August 22–23\, 2026 for our 3rd Annual Tanoshii Con — and this year is going to be bigger\, bolder\, and more unforgettable than ever! \nSaturday- 10am to 7pm Sunday 10am to 5pm \nAn All Fandom Con created for EVERYONE ✨\nDive into a weekend filled with:\nAnime • Sci-Fi • Fantasy • Steampunk • Oddities\nIncredible Cosplay • Epic Vendors\nCelebrity Guests from Stranger Things\, The Walking Dead\, The Mandalorian\, and more! \nWhether you’re a seasoned con-goer or it’s your first time\, Tanoshii Con is the place to celebrate your fandom\, meet amazing people\, and make lasting memories. \nDon’t miss the most exciting fandom event of the year — Tanoshii Con 2026!
URL:https://floridacomiccons.com/event/tanoshii-con-an-all-fandom-con-2026/
LOCATION:Ocean Center Daytona Beach\, 101 N Atlantic Ave\, Daytona Beach\, FL\, 32118\, United States
CATEGORIES:2+ Day Cons,Anime Convention,Collectables Con,Comic Con,Horror Convention,Pop Culture Con,Sci-Fi & Fantasy Con
ATTACH;FMTTYPE=image/png:https://floridacomiccons.com/wp-content/uploads/2025/09/tanoshii.png
ORGANIZER;CN="For the Love of Shopping%2C LLC":MAILTO:tanoshiicon@yahoo.com
END:VEVENT
END:VCALENDAR