BEGIN:VCALENDAR
VERSION:2.0
PRODID:-//Florida Comic Cons - ECPv6.15.20//NONSGML v1.0//EN
CALSCALE:GREGORIAN
METHOD:PUBLISH
X-ORIGINAL-URL:https://floridacomiccons.com
X-WR-CALDESC:Events for Florida Comic Cons
REFRESH-INTERVAL;VALUE=DURATION:PT1H
X-Robots-Tag:noindex
X-PUBLISHED-TTL:PT1H
BEGIN:VTIMEZONE
TZID:America/New_York
BEGIN:DAYLIGHT
TZOFFSETFROM:-0500
TZOFFSETTO:-0400
TZNAME:EDT
DTSTART:20250309T070000
END:DAYLIGHT
BEGIN:STANDARD
TZOFFSETFROM:-0400
TZOFFSETTO:-0500
TZNAME:EST
DTSTART:20251102T060000
END:STANDARD
BEGIN:DAYLIGHT
TZOFFSETFROM:-0500
TZOFFSETTO:-0400
TZNAME:EDT
DTSTART:20260308T070000
END:DAYLIGHT
BEGIN:STANDARD
TZOFFSETFROM:-0400
TZOFFSETTO:-0500
TZNAME:EST
DTSTART:20261101T060000
END:STANDARD
BEGIN:DAYLIGHT
TZOFFSETFROM:-0500
TZOFFSETTO:-0400
TZNAME:EDT
DTSTART:20270314T070000
END:DAYLIGHT
BEGIN:STANDARD
TZOFFSETFROM:-0400
TZOFFSETTO:-0500
TZNAME:EST
DTSTART:20271107T060000
END:STANDARD
END:VTIMEZONE
BEGIN:VEVENT
DTSTART;TZID=America/New_York:20260418T120000
DTEND;TZID=America/New_York:20260418T190000
DTSTAMP:20260418T142308
CREATED:20260416T175735Z
LAST-MODIFIED:20260416T175735Z
UID:10000394-1776513600-1776538800@floridacomiccons.com
SUMMARY:Mini Pop Up Event: Sylus Cat Cafe at Ding Tea Orlando
DESCRIPTION:
URL:https://floridacomiccons.com/event/mini-pop-up-event-sylus-cat-cafe-at-ding-tea-orlando/
LOCATION:Ding Tea Orlando\, 4680 Millenia Plaza Way\, Orlando\, FL\, 32839\, United States
CATEGORIES:1-Day Show,love and deepspace
ATTACH;FMTTYPE=image/png:https://floridacomiccons.com/wp-content/uploads/2026/04/afomiami-2.png
END:VEVENT
BEGIN:VEVENT
DTSTART;TZID=America/New_York:20260516T120000
DTEND;TZID=America/New_York:20260516T180000
DTSTAMP:20260418T142308
CREATED:20260417T164541Z
LAST-MODIFIED:20260417T164541Z
UID:10000397-1778932800-1778954400@floridacomiccons.com
SUMMARY:Mini Pop Up Event: StayTiny Crossing! at Ding Tea Orlando
DESCRIPTION:
URL:https://floridacomiccons.com/event/mini-pop-up-event-staytiny-crossing-at-ding-tea-orlando/
LOCATION:Ding Tea Orlando\, 4680 Millenia Plaza Way\, Orlando\, FL\, 32839\, United States
CATEGORIES:1-Day Show
ATTACH;FMTTYPE=image/png:https://floridacomiccons.com/wp-content/uploads/2026/04/afomiami-7.png
END:VEVENT
END:VCALENDAR