BEGIN:VCALENDAR
VERSION:2.0
PRODID:-//Florida Comic Cons - ECPv6.15.20//NONSGML v1.0//EN
CALSCALE:GREGORIAN
METHOD:PUBLISH
X-WR-CALNAME:Florida Comic Cons
X-ORIGINAL-URL:https://floridacomiccons.com
X-WR-CALDESC:Events for Florida Comic Cons
REFRESH-INTERVAL;VALUE=DURATION:PT1H
X-Robots-Tag:noindex
X-PUBLISHED-TTL:PT1H
BEGIN:VTIMEZONE
TZID:America/New_York
BEGIN:DAYLIGHT
TZOFFSETFROM:-0500
TZOFFSETTO:-0400
TZNAME:EDT
DTSTART:20210314T070000
END:DAYLIGHT
BEGIN:STANDARD
TZOFFSETFROM:-0400
TZOFFSETTO:-0500
TZNAME:EST
DTSTART:20211107T060000
END:STANDARD
BEGIN:DAYLIGHT
TZOFFSETFROM:-0500
TZOFFSETTO:-0400
TZNAME:EDT
DTSTART:20220313T070000
END:DAYLIGHT
BEGIN:STANDARD
TZOFFSETFROM:-0400
TZOFFSETTO:-0500
TZNAME:EST
DTSTART:20221106T060000
END:STANDARD
BEGIN:DAYLIGHT
TZOFFSETFROM:-0500
TZOFFSETTO:-0400
TZNAME:EDT
DTSTART:20230312T070000
END:DAYLIGHT
BEGIN:STANDARD
TZOFFSETFROM:-0400
TZOFFSETTO:-0500
TZNAME:EST
DTSTART:20231105T060000
END:STANDARD
BEGIN:DAYLIGHT
TZOFFSETFROM:-0500
TZOFFSETTO:-0400
TZNAME:EDT
DTSTART:20240310T070000
END:DAYLIGHT
BEGIN:STANDARD
TZOFFSETFROM:-0400
TZOFFSETTO:-0500
TZNAME:EST
DTSTART:20241103T060000
END:STANDARD
BEGIN:DAYLIGHT
TZOFFSETFROM:-0500
TZOFFSETTO:-0400
TZNAME:EDT
DTSTART:20250309T070000
END:DAYLIGHT
BEGIN:STANDARD
TZOFFSETFROM:-0400
TZOFFSETTO:-0500
TZNAME:EST
DTSTART:20251102T060000
END:STANDARD
BEGIN:DAYLIGHT
TZOFFSETFROM:-0500
TZOFFSETTO:-0400
TZNAME:EDT
DTSTART:20260308T070000
END:DAYLIGHT
BEGIN:STANDARD
TZOFFSETFROM:-0400
TZOFFSETTO:-0500
TZNAME:EST
DTSTART:20261101T060000
END:STANDARD
BEGIN:DAYLIGHT
TZOFFSETFROM:-0500
TZOFFSETTO:-0400
TZNAME:EDT
DTSTART:20270314T070000
END:DAYLIGHT
BEGIN:STANDARD
TZOFFSETFROM:-0400
TZOFFSETTO:-0500
TZNAME:EST
DTSTART:20271107T060000
END:STANDARD
END:VTIMEZONE
BEGIN:VEVENT
DTSTART;VALUE=DATE:20260117
DTEND;VALUE=DATE:20260119
DTSTAMP:20260419T152832
CREATED:20250607T213751Z
LAST-MODIFIED:20251214T145725Z
UID:10000268-1768608000-1768780799@floridacomiccons.com
SUMMARY:Central Florida Comic Con 2026
DESCRIPTION:Central Florida Comic Con 2026 is January 17-18 at the RP Funding Center in Lakeland\, FL. The pop culture event features comics\, anime\, and more! \nTickets\nNo ticket info was available at the time of this post. \nparking\nPaid parking. \nfcc room block\nFlorida Comic Cons has a room block where fans get a discounted room rate\, reduced parking fees\, and other perks as well as casual gatherings with fan themed-cocktails on Friday and Saturday nights. Book and take advantage of the discounts and join the fun! Learn more about this and other room blocks for events throughout the state. 
URL:https://floridacomiccons.com/event/central-florida-comic-con-2026/
LOCATION:RP Funding Center\, 701 W Lime St\, Lakeland\, Florida\, 33815
CATEGORIES:2+ Day Cons,Anime Convention,Collectables Con,Comic Con,Pop Culture Con,Sci-Fi & Fantasy Con
ATTACH;FMTTYPE=image/png:https://floridacomiccons.com/wp-content/uploads/2025/12/ccentral-fl-cc.png
END:VEVENT
BEGIN:VEVENT
DTSTART;VALUE=DATE:20250117
DTEND;VALUE=DATE:20250120
DTSTAMP:20260419T152832
CREATED:20240608T013438Z
LAST-MODIFIED:20241006T024604Z
UID:10000158-1737072000-1737331199@floridacomiccons.com
SUMMARY:Central Florida Comic Con 2025
DESCRIPTION:Basic Info\nCentral Florida Comic Con 2025 is January 17-19 at the RP Funding Center in Lakeland. \nTickets\nTicket prices were not available when this event listing was posted. Here is link to tickets for Central Florida Comic Con 2025. \nwe also recommend\nWith more than 40 annual\, 2-plus day fan conventions\, Florida is the best place in the universe for comic\, anime\, horror\, sci-fi\, and pop-culture cons. Given your interest in this event\, Florida Comic Cons also recommends the following. \n\n \n\n \n\n  \nNeed Help Finding Cons?\nFlorida Comic Cons has the Con Calendar\, a curated calendar of comic\, anime\, horror\, and other pop-culture conventions to keep you\, the fandom\, informed and apprised (you’re welcome). Quit wasting time with internet searches that take too long and still leave you asking questions.  The Con Calendar’s event listings include all the con info like ticket prices and links\, and lots more!
URL:https://floridacomiccons.com/event/central-florida-comic-con-2025/
LOCATION:RP Funding Center\, 701 W Lime St\, Lakeland\, Florida\, 33815
CATEGORIES:2+ Day Cons,Anime Convention,Comic Con
ATTACH;FMTTYPE=image/png:https://floridacomiccons.com/wp-content/uploads/2024/06/cfcc-24.png
END:VEVENT
BEGIN:VEVENT
DTSTART;VALUE=DATE:20240120
DTEND;VALUE=DATE:20240122
DTSTAMP:20260419T152832
CREATED:20230826T214002Z
LAST-MODIFIED:20230826T214619Z
UID:10000126-1705708800-1705881599@floridacomiccons.com
SUMMARY:Central Florida Comic Con 2024
DESCRIPTION:Basic Info\nCentral Florida Comic Con is a comic\, anime\, and pop culture convention on January 20-21 at the R.P. Funding Center in Lakeland. \nTickets\nSaturday tickets are $40\, Sunday tickets are $30\, and weekend passes are $45. Children 10 and under are free. (advance tickets are $5-$10 less expensive) Get tickets here. \nflorida comic cons coverage of central florida comic con\nWe love Central Florida Comic Con\, and it shows! We’ll be providing coverage of the 2024 event including pre-event tips and post-event photos and news. Click to read a previous blog on last year’s 5th anniversary event. \n																\n															 \n\nNeed help finding cons in Florida?\nFlorida Comic Cons has the Con Calendar\, a curated calendar of comic\, anime\, horror\, and other pop-culture conventions to keep you\, the fandom\, informed and apprised (you’re welcome). Quit wasting time with internet searches that take too long and still leave you asking questions.  The Con Calendar’s event listings include all the con info like ticket prices and links\, vendor registration\, and lots more!
URL:https://floridacomiccons.com/event/central-florida-comic-con-2024/
LOCATION:RP Funding Center\, 701 W Lime St\, Lakeland\, Florida\, 33815
ATTACH;FMTTYPE=image/png:https://floridacomiccons.com/wp-content/uploads/2023/08/18.png
END:VEVENT
BEGIN:VEVENT
DTSTART;TZID=America/New_York:20230121T100000
DTEND;TZID=America/New_York:20230122T160000
DTSTAMP:20260419T152832
CREATED:20221011T150529Z
LAST-MODIFIED:20221013T232153Z
UID:10000110-1674295200-1674403200@floridacomiccons.com
SUMMARY:Central Florida Comic Con 2023
DESCRIPTION:Basic Info\nCentral Florida Comic Con is an exciting comic convention in Lakeland\, Florida. Described as a diverse and fun-loving community\, the event takes place on January 21-22\, 2023. This stunning 2-day convention is held at the RP Funding Center and features all things nerdy. Brought to you by the same creators of Sugoi Expo\, this exceptional convention is perfect fun for the whole family! \nConvention hours are Saturday 10 a.m. – 6 p.m. and Sunday 10 a.m. – 4 p.m. \nTicket Info\nTickets for Central Florida Comic Con are available for online purchase and include Saturday\, Sunday\, weekend passes and VIP passes. \nSaturday\nSaturday only passes are $30 and available for purchase online. \nAlso early bird pricing is available now and tickets are $20. \nSunday\nTickets are $20 and are available for purchase online. \nEarly bird pricing is available now and tickets are $17. \nWeekend Passes / VIP Tickets\nWeekend passes include admission to all convention days. 2-day passes are $40 and are available for purchase online. \nEarly bird pricing is available for online purchases and weekend passes are currently $30. \nLastly\, VIP passes are $90 and include 2-day admission\, 15-minute early entry\, t-shirt\, and an art print. Tickets are $75 with early bird pricing. \nHotel Info\nThe hotel listed by Central Florida Comic Con is the Hyatt Place Lakeland Center  at 525 West Orange Street\,  Lakeland\, Florida\, United States\, 33815.  \nAnother option nearby is the SpringHill Suites by Marriott Lakeland\, located at 511 W Lime St\, Lakeland\, FL 33815. \nBecome a Vendor\nVendor tables and booths are available for online purchase now! An interior 10 x 10 booth is $400\, while a corner booth is $475. \nFurthermore\, tables in Artist Alley are available online and are $250. \nFinally\, All booths will have an $85 add-on for electricity. \nFollow The Convention On Social Media\nVisit Lakeland’s very own comic and anime convention on Facebook and Instagram (and while you’re perusing their social media\, check out Florida Comic Cons on Facebook and Instagram). \nCentral Florida Comic Con By The Numbers\nAdditionally By The Numbers is an exclusive Florida Comic Cons graphic that provides you with a snapshot of convention ticket prices\, attendance\, con duration\, and years in operation. \nFlorida Comic Cons breaks down wonderful Central Florida Comic Con. \n \n  \nNeed Help Finding Comic Cons in Florida?\nFurthermore\, Florida Comic Cons provides the Con Calendar — a curated calendar of upcoming comic\, anime\, horror\, science fiction\, fantasy and pop culture conventions in The Sunshine State. Event listings include con info as well as helpful links for things like buying tickets and registering as a vendor.
URL:https://floridacomiccons.com/event/central-florida-comic-con-2023/
LOCATION:RP Funding Center\, 701 W Lime St\, Lakeland\, Florida\, 33815
CATEGORIES:Anime Convention,Comic Con
ATTACH;FMTTYPE=image/png:https://floridacomiccons.com/wp-content/uploads/2022/10/cfcc.png
END:VEVENT
BEGIN:VEVENT
DTSTART;VALUE=DATE:20220115
DTEND;VALUE=DATE:20220117
DTSTAMP:20260419T152832
CREATED:20201101T170341Z
LAST-MODIFIED:20220103T155710Z
UID:10000069-1642204800-1642377599@floridacomiccons.com
SUMMARY:Central Florida Comic Con
DESCRIPTION:Basic info\nCentral Florida Comic Con 2022 is a comic convention at the RP Funding Center in Lakeland\, Florida on January 15-16\, 2022. Also known as “CFCC\,” the pop culture\, media\, and comic book convention describes itself as “a celebration of comics\, toys\, TV\, film\, art\, cosplay\, games\, and all things nerdy!” And attendees can meet celebrity guests and artists as well as participate in various activities and panel discussions. \nTicket info\nTickets are available for CFCC. And ticket prices are Saturday $20\, Sunday $15\, and a weekend pass is $30. In addition\, children ages 10 and under are free (but still need a ticket for entry.) \nBe an exhibitor\nInteresting in having a booth at CFCC?  Here is the registration. There are corner booths\, interior booths and artist alley tables. And one corner booth is 10′ x 10′ at a cost of $425. In addition\, one interior booth is 10′ x 10′ at a cost of $350. Moreover\, an artist alley table is $200. \nFurthermore\, there are a limited number of complimentary tables for nonprofit groups\, fan groups\, and other cons who will not be selling anything. Space is limited. Apply here. \nUpcoming Info\nTo learn more about CFCC 2022\, check out our blog titled “4 Fantastic Reasons to Attend Central Florida Comic Con 2022.” \nNeed help finding comic cons in Florida?\nFlorida Comic Cons provides the Con Calendar — a curated calendar of upcoming comic\, anime\, horror\, science fiction\, fantasy and pop culture conventions in The Sunshine State. Event listings include con info as well as helpful links for things like buying tickets and registering as a vendor. \n \n  \n  \n 
URL:https://floridacomiccons.com/event/central-florida-comic-con-2021/
LOCATION:RP Funding Center\, 701 W Lime St\, Lakeland\, Florida\, 33815
ATTACH;FMTTYPE=image/png:https://floridacomiccons.com/wp-content/uploads/2021/12/Central-FL-comic-con-sm.png
END:VEVENT
END:VCALENDAR