BEGIN:VCALENDAR
VERSION:2.0
PRODID:-//Florida Comic Cons - ECPv6.15.20//NONSGML v1.0//EN
CALSCALE:GREGORIAN
METHOD:PUBLISH
X-ORIGINAL-URL:https://floridacomiccons.com
X-WR-CALDESC:Events for Florida Comic Cons
REFRESH-INTERVAL;VALUE=DURATION:PT1H
X-Robots-Tag:noindex
X-PUBLISHED-TTL:PT1H
BEGIN:VTIMEZONE
TZID:America/New_York
BEGIN:DAYLIGHT
TZOFFSETFROM:-0500
TZOFFSETTO:-0400
TZNAME:EDT
DTSTART:20200308T070000
END:DAYLIGHT
BEGIN:STANDARD
TZOFFSETFROM:-0400
TZOFFSETTO:-0500
TZNAME:EST
DTSTART:20201101T060000
END:STANDARD
BEGIN:DAYLIGHT
TZOFFSETFROM:-0500
TZOFFSETTO:-0400
TZNAME:EDT
DTSTART:20210314T070000
END:DAYLIGHT
BEGIN:STANDARD
TZOFFSETFROM:-0400
TZOFFSETTO:-0500
TZNAME:EST
DTSTART:20211107T060000
END:STANDARD
BEGIN:DAYLIGHT
TZOFFSETFROM:-0500
TZOFFSETTO:-0400
TZNAME:EDT
DTSTART:20220313T070000
END:DAYLIGHT
BEGIN:STANDARD
TZOFFSETFROM:-0400
TZOFFSETTO:-0500
TZNAME:EST
DTSTART:20221106T060000
END:STANDARD
BEGIN:DAYLIGHT
TZOFFSETFROM:-0500
TZOFFSETTO:-0400
TZNAME:EDT
DTSTART:20230312T070000
END:DAYLIGHT
BEGIN:STANDARD
TZOFFSETFROM:-0400
TZOFFSETTO:-0500
TZNAME:EST
DTSTART:20231105T060000
END:STANDARD
BEGIN:DAYLIGHT
TZOFFSETFROM:-0500
TZOFFSETTO:-0400
TZNAME:EDT
DTSTART:20240310T070000
END:DAYLIGHT
BEGIN:STANDARD
TZOFFSETFROM:-0400
TZOFFSETTO:-0500
TZNAME:EST
DTSTART:20241103T060000
END:STANDARD
BEGIN:DAYLIGHT
TZOFFSETFROM:-0500
TZOFFSETTO:-0400
TZNAME:EDT
DTSTART:20250309T070000
END:DAYLIGHT
BEGIN:STANDARD
TZOFFSETFROM:-0400
TZOFFSETTO:-0500
TZNAME:EST
DTSTART:20251102T060000
END:STANDARD
END:VTIMEZONE
BEGIN:VEVENT
DTSTART;VALUE=DATE:20240517
DTEND;VALUE=DATE:20240520
DTSTAMP:20260419T104955
CREATED:20240126T211652Z
LAST-MODIFIED:20240126T211739Z
UID:10000140-1715904000-1716163199@floridacomiccons.com
SUMMARY:Spooky Empire 2024
DESCRIPTION:Basic Info\nSpooky Empire is a horror-themed convention in Orlando Florida at the Wyndham Resort on May 17-19\, 2024.  \nTickets\n Get tickets here. \nFriday\n$40 – Advance \n$45 – At the door  \nSaturday \n$50.00 – Advance \n$60.00 – At The Door \nSunday\n$40 – Advance  \n$ 45 – At the door  \nWeekend Pass\n$75.00 – Advance \n$80.00 – At The Door \nChildren\, 10 and younger\, are FREE \n  \nNeed help finding cons in Florida?\nFlorida Comic Cons has the Con Calendar\, a curated calendar of comic\, anime\, horror\, and other pop-culture conventions to keep you\, the fandom\, informed and apprised (you’re welcome). Quit wasting time with internet searches that take too long and still leave you asking questions.  The Con Calendar’s event listings include all the con info like ticket prices and links\, vendor registration\, and lots more! \n \n. \n 
URL:https://floridacomiccons.com/event/spooky-empire-2024/
LOCATION:The Wyndham Orlando Resort International Drive\, 8001 International Drive\, Orlando\, FL\, 32819\, United States
ATTACH;FMTTYPE=image/png:https://floridacomiccons.com/wp-content/uploads/2024/01/spooky-empire-.png
END:VEVENT
BEGIN:VEVENT
DTSTART;VALUE=DATE:20230616
DTEND;VALUE=DATE:20230619
DTSTAMP:20260419T104955
CREATED:20230520T213302Z
LAST-MODIFIED:20230522T204504Z
UID:10000032-1686873600-1687132799@floridacomiccons.com
SUMMARY:Anime Festival Orlando 2023
DESCRIPTION:Basic info\nAnime Festival Orlando 2023 is June 14-16 at the Wyndham Orlando Resort (8001 International Drive). \nTickets\nFriday ticket is $50\, Saturday is $60\, Sunday is $45\, and a three-day pass is $80. Get tickets at Anime Festival Orlando website. \nNeed help finding cons in Florida?\nFlorida Comic Cons has the Con Calendar\, a curated calendar of comic\, anime\, horror\, and other pop-culture conventions to keep you\, the fandom\, informed and apprised (you’re welcome). Quit wasting time with internet searches that take too long and still leave you asking questions.  The Con Calendar’s event listings include all the con info like ticket prices and links\, vendor registration\, and lots more! \n \n  \n 
URL:https://floridacomiccons.com/event/anime-festival-orlando-2023/
LOCATION:The Wyndham Orlando Resort International Drive\, 8001 International Drive\, Orlando\, FL\, 32819\, United States
ATTACH;FMTTYPE=image/png:https://floridacomiccons.com/wp-content/uploads/2023/05/con-calendar-listing-2023-1.png
END:VEVENT
BEGIN:VEVENT
DTSTART;VALUE=DATE:20220907
DTEND;VALUE=DATE:20220912
DTSTAMP:20260419T104955
CREATED:20220412T130647Z
LAST-MODIFIED:20220412T130647Z
UID:10000099-1662508800-1662940799@floridacomiccons.com
SUMMARY:Escape Winter Con 2022
DESCRIPTION:Basic info\nEscape Winter Con is a gaming convention in Orlando\, Florida on September 7-11. The event is at Wyndham International Drive. Convention hours are Wednesday 10 a.m. – 12 a.m.\, Thursday – Saturday 12 a.m. – 12 a.m.\, and Sunday 12 a.m. – 6 p.m. \nCon genres\nEscape Winter Con genres are gaming\, and fantasy. Florida Comic Cons determines con genres based upon guests. \nTicket info\nTickets will go on sale on May 17th\, 2022. \nFollow Escape Winter Con on social media\nVisit Escape Winter Con on Facebook (and while you’re checking out their social media\, please follow Florida Comic Cons on Facebook and Instagram). \nBecome a vendor\nClick here for more information on becoming a vendor. \nEscape Winter Con By The Numbers\nFlorida Comic Cons breaks down Escape Winter Con By The Numbers: Ticket price\, last year’s attendance\, number of days\, and years in operation. \n \n  \nNeed help finding comic cons in Florida?\nFlorida Comic Cons provides the Con Calendar — a curated calendar of upcoming comic\, anime\, horror\, science fiction\, fantasy\, and pop culture conventions in The Sunshine State. Event listings include con info as well as helpful links for things like buying tickets and registering as a vendor.
URL:https://floridacomiccons.com/event/escape-winter-con-2022/
LOCATION:The Wyndham Orlando Resort International Drive\, 8001 International Drive\, Orlando\, FL\, 32819\, United States
END:VEVENT
BEGIN:VEVENT
DTSTART;TZID=America/New_York:20220814T080000
DTEND;TZID=America/New_York:20220814T170000
DTSTAMP:20260419T104955
CREATED:20220815T032213Z
LAST-MODIFIED:20220815T032213Z
UID:10000020-1660464000-1660496400@floridacomiccons.com
SUMMARY:CEOtaku 2022
DESCRIPTION:Basic Information\nCEOtaku is Florida’s first “anime” fighting game convention. The event has the largest dedicated anime fighting game tournament in the world. The convention is at the Wyndham Orlando Resort on September 23-25. The doors open at 4 p.m. on Friday and close at 6 p.m. on Sunday. \nTickets\nCEOtaku only has different weekend passes available. \nSpectator: $55 \nStandard: $80 (ends August 31) \nLate Player: $90 (ends September 17) \nHotel Information\nThe convention is in the convention center of the Wyndham Orlando Resort. Room black information can be found here. \nFollow Ocala Comic Con on Social Media\nVisit Ocala Comic Con on Facebook\, Youtube\, and Instagram (and while you’re checking out their social media\, please follow Florida Comic Cons on Facebook\, Twitter\, and Instagram). \nCEOtaku By the Numbers\nFlorida Comic Cons breaks down CEOtaku By The Numbers: Ticket price\, last year’s attendance\, number of days\, and years in operation. \n \nNeed help finding comic cons in Florida?\nFlorida Comic Cons provides the Con Calendar — a curated calendar of upcoming comic\, anime\, horror\, science fiction\, fantasy and pop culture conventions in The Sunshine State. And event listings include con info as well as helpful links for things like buying tickets and registering as a vendor.
URL:https://floridacomiccons.com/event/ceotaku-2022/
LOCATION:The Wyndham Orlando Resort International Drive\, 8001 International Drive\, Orlando\, FL\, 32819\, United States
ATTACH;FMTTYPE=image/png:https://floridacomiccons.com/wp-content/uploads/2022/08/ceotaku-2022-1.png
ORGANIZER;CN="Ceo Gaming Inc":MAILTO:CEOgaming@gmail.com
END:VEVENT
BEGIN:VEVENT
DTSTART;VALUE=DATE:20220623
DTEND;VALUE=DATE:20220627
DTSTAMP:20260419T104955
CREATED:20220214T191750Z
LAST-MODIFIED:20220505T135555Z
UID:10000093-1655942400-1656287999@floridacomiccons.com
SUMMARY:Anime Festival Orlando 2022
DESCRIPTION:  \nBasic info\nAnime Festival Orlando is an anime convention on June 23-26 in Orlando\, Florida. The three-day event is at the Wyndham Orlando Resort. Convention hours are Friday 1 p.m. – 7 p.m.\, Saturday 10 a.m – 7 p.m.\, and Sunday 10 a.m. – 4 p.m. \nTicket info\nAnime Festival Orlando offers both VIP and three-day Passes as well as single-day passes. \nFriday\nAn individual ticket is $40 plus tax/fee. \nSaturday \nAn individual ticket is $50 plus tax/fee. \nSunday\nAn individual ticket is $30 plus tax/fee. \nThree-day passes / VIP Gold passes\nAn individual weekend pass is $80 plus tax/fee and includes three-day admission. VIP Gold tickets are $100 plus tax/fees and include three-day admission and early access to dealer rooms and events. \nHotel Info\nThe hotel listed by Anime Festival Orlando is Wyndham Orlando Resort at 8001 International Dr\, Orlando\, FL. \nFollow Anime Festival Orlando on social media\nVisit Anime Festival Orlando on Facebook and Instagram (and while you’re checking out their social media\, please follow Florida Comic Cons on Facebook and Instagram). \nBecome a vendor\nVendor booths and tables range from $200 in artist alley to $450 for a corner booth. In addition\, all spaces come with two vendor badges. \nAnime Festival Orlando By The Numbers\nFlorida Comic Cons breaks down Anime Festival Orlando By The Numbers: Ticket price\, last year’s attendance\, number of days\, and years in operation. \n \nNeed help finding comic cons in Florida?\nFlorida Comic Cons provides the Con Calendar — a curated calendar of upcoming comic\, anime\, horror\, science fiction\, fantasy\, and pop culture conventions in The Sunshine State. Event listings include con info as well as helpful links for things like buying tickets and registering as a vendor.
URL:https://floridacomiccons.com/event/anime-festival-orlando-2022/
LOCATION:The Wyndham Orlando Resort International Drive\, 8001 International Drive\, Orlando\, FL\, 32819\, United States
ATTACH;FMTTYPE=image/png:https://floridacomiccons.com/wp-content/uploads/2022/02/Featured-Images-Con-Calendar-7.png
END:VEVENT
BEGIN:VEVENT
DTSTART;VALUE=DATE:20220617
DTEND;VALUE=DATE:20220620
DTSTAMP:20260419T104955
CREATED:20220202T173800Z
LAST-MODIFIED:20220505T135258Z
UID:10000008-1655424000-1655683199@floridacomiccons.com
SUMMARY:Spooky Empire 2022
DESCRIPTION:Basic info\nSpooky Empire is a horror convention on June 17-19 in Orlando\, Florida. The three-day event is at the Wyndham Orlando Resort. Convention hours are Friday  1 p.m. – 9 p.m.\, Saturday 11 a.m. – 8 p.m.\, and Sunday 11 a.m. – 5 p.m. \nTicket Info\nSpooky Empire offers both VIP and Weekend Passes as well as single-day passes. \nFriday & Sunday\nAn individual ticket is $40 plus tax/fee. \nSaturday\nAn individual ticket is $45 plus tax/fee. \nThree-day passes / VIP passes\nAn individual three-day pass is $75 plus tax/fee and includes three-day admission. VIP tickets are $250 plus tax/fees and include three-day admission\, a T-shirt\, a spooky tote\, fast access to autograph lines\, and more. \nHotel Info\nThe hotel listed by Spooky Empire is Wyndham Orlando Resort at 8001 International Drive\, Orlando\, FL. \n\n\n\n\n\n\n\nFollow Spooky Empire on social media\n\n\n\n\n\n\n\nVisit Spooky Empire on Facebook and Instagram (and while you’re checking out their social media\, please follow Florida Comic Cons on Facebook and Instagram). \nBecome a vendor\nVendor tables and booths range from $400 for a standard table to $775 for a corner booth. \nSpooky Empire By The Numbers\nFlorida Comic Cons breaks down Spooky Empire By The Numbers: Ticket price\, last year’s attendance\, number of days\, and years in operation. \n \nNeed help finding comic cons in Florida?\nFlorida Comic Cons provides the Con Calendar — a curated calendar of upcoming comic\, anime\, horror\, science fiction\, fantasy\, and pop culture conventions in The Sunshine State. Event listings include con info as well as helpful links for things like buying tickets and registering as a vendor. \n \n 
URL:https://floridacomiccons.com/event/spooky-empire-2022/
LOCATION:The Wyndham Orlando Resort International Drive\, 8001 International Drive\, Orlando\, FL\, 32819\, United States
ATTACH;FMTTYPE=image/png:https://floridacomiccons.com/wp-content/uploads/2022/02/Featured-Images-Con-Calendar-3.png
END:VEVENT
BEGIN:VEVENT
DTSTART;TZID=America/New_York:20210828T100000
DTEND;TZID=America/New_York:20210828T180000
DTSTAMP:20260419T104955
CREATED:20201101T193138Z
LAST-MODIFIED:20210813T233041Z
UID:10000062-1630144800-1630173600@floridacomiccons.com
SUMMARY:MY-CON
DESCRIPTION:MY-CON (aka Mystic Con) is a comic convention in Orlando\, Florida. The annual event\, in its fourth year\, is more than 8\,000 square feet of anime\, fantasy\, comic and hobby dealers. And the 2021 event is scheduled August 28 from 10 a.m. – 6 p.m. at the Wyndham Orlando Resort International Drive. \nOrganizers set the ticket price at $5 to attract comic con fans and cosplayers who are discouraged by the high price of tickets at other area conventions. “MY-CON is similar to other Orlando conventions but not nearly as costly\,” according to organizers. \nMY-CON Cosplay Contest\nThe comic convention is known for its cosplay contests. This year’s begins at 5:15 p.m. Prizes are awarded to first place and most unique in three contest categories: \n\nKids ages 12 and under\nTeens 13-17 years old\nAdults 18 and over\n\n \nCoronavirus policies and practices\nMasks are required if the cosplay does not include one. Below is an example of a previous MY-CON where cosplayers wore masks\, though not part of the cosplay. \n \nMY-CON ticket info\nAdmission is $5 at the door. Children ages 10 and under are free. https://mystic-con.com/ \nNeed help finding comic cons in Florida?\nFlorida Comic Cons curates the Con Calendar\, which is the most comprehensive calendar of comic convention in The Sunshine State. If you live in Florida\, you’re likely closer to more comic cons than you realize. Our Con Map can help you show how close you are to annual events. \n \nFlorida Cosplay Digital Magazine is a seasonal magazine featuring top talent\nFlorida Cosplay Digital Magazine\, published by Florida Comic Cons\, is a seasonal magazine. Click below for past issues\, which are always free. If you want to be considered for the magazine\, please submit. \n \n \n \n \n \n \n  \n  \n  \n 
URL:https://floridacomiccons.com/event/my-con/
LOCATION:The Wyndham Orlando Resort International Drive\, 8001 International Drive\, Orlando\, FL\, 32819\, United States
ATTACH;FMTTYPE=image/jpeg:https://floridacomiccons.com/wp-content/uploads/2020/11/MY-CON.jpg
END:VEVENT
BEGIN:VEVENT
DTSTART;VALUE=DATE:20210820
DTEND;VALUE=DATE:20210823
DTSTAMP:20260419T104955
CREATED:20200406T032333Z
LAST-MODIFIED:20210718T193359Z
UID:10000073-1629417600-1629676799@floridacomiccons.com
SUMMARY:Fanboy Expo Orlando
DESCRIPTION:Fanboy Expo Orlando is a comic convention in Orlando\, Florida. The three-day event\, at Wyndham Orlando Resort International Drive\, is on August 20-22. Friday hours are 4 p.m. – 9 p.m.\, Saturday 10 a.m. – 8 p.m.\, and Sunday 10 a.m. – 6 p.m. \nCheck out our recent blog: 8 Wonderful Reasons to Attend Fanboy Expo Orlando 2021\nOur recent blog — 8 wonderful reasons to attend Fanboy Expo Orlando 2021 — tells you all you need to know. \nFanboy Expo Orlando ticket info\nTickets: Friday is $30\, Saturday $40\, and Sunday $35. Three-day pass is $95. Fan packages can offer more value for those who want tickets as well as celebrity photos and autographs. \nFlorida Cosplay Digital Magazine featured Orlando-area cosplayers\nFlorida Cosplay Digital Magazine’s (FCDM) has spotlighted numerous cosplayers from the Orlando area. For instance\, FCDM May/June 2020 issue titled “10 Florida cosplayers you need to know about” spotlighted @sonnenbooks https://the-caruthers-institute.foleon.com/florida-comic-cons/may-june-2020-copy-1-copy-1/sonnenbooks/ \nAdditionally\, the following appeared in FCDM’s November 2020 issue called “8 Florida cosplayers and one dozen Sailor Moons to cheer you up:” \n@rbilcosplay  https://the-caruthers-institute.foleon.com/florida-comic-cons/florida-cosplay-digital-magazine-november-2020-issue/rbilcosplay/ \n@smiley_bandit https://the-caruthers-institute.foleon.com/florida-comic-cons/florida-cosplay-digital-magazine-november-2020-issue/smileybandit/ \n@sheriru.cosplay https://the-caruthers-institute.foleon.com/florida-comic-cons/florida-cosplay-digital-magazine-november-2020-issue/sherirucosplay/ \nMoreover\, @Harlequin_Arts was featured in the Winter 2021 issue called “17 Florida Cosplayers Who Make 2021 Look Brighter @Harlequin_Arts – Florida Cosplay Digital Magazine Winter 2021 issue (foleon.com)
URL:https://floridacomiccons.com/event/fanboy-expo-orlando/
LOCATION:The Wyndham Orlando Resort International Drive\, 8001 International Drive\, Orlando\, FL\, 32819\, United States
ATTACH;FMTTYPE=image/jpeg:https://floridacomiccons.com/wp-content/uploads/2020/04/top1orlando21.jpg
END:VEVENT
END:VCALENDAR